BEGIN:VCALENDAR
VERSION:2.0
PRODID:-//ChamberMaster//Event Calendar 2.0//EN
METHOD:PUBLISH
X-PUBLISHED-TTL:P3D
REFRESH-INTERVAL:P3D
CALSCALE:GREGORIAN
BEGIN:VEVENT
DTSTART;VALUE=DATE:20210713
DTEND;VALUE=DATE:20210714
TRANSP:TRANSPARENT
X-MICROSOFT-CDO-ALLDAYEVENT:TRUE
SUMMARY:NIT Advanced Welding Training Starts
DESCRIPTION:This program\, based on NCCER curriculum\, provides advanced training on stick welding procedures. An introduction is given in flux-core procedures. Trainee will be instructed on how to interpret a WPS and how to identify the codes or standards that apply. Students will be instructed in the safe and efficient method of completing a welder qualification or certification test\, under AWS code. Students will be introduced to detailed blueprint reading. Students' weld coupons will be subject to destructive or non-destructive testing. Over 70% of this program is spent on practical application.\n\nCURRICULUM\n\nPhysical Characteristics and Mechanical Properties of Metals\n\nPreheating and Post-heating of Metals\n\nGMAW and FCAW   Equipment and Filler Metals\n\nGTAW   Equipment and Filler Metals\n\nWelding Symbols\n\nReading Welding Detail Drawings\n\nCERTIFICATIONS OR CERTIFICATES\n\nGraduates who successfully complete the course have the opportunity to earn the following certifications or certificates:\n\n\n	3G and 4G FCAW-G limited or unlimited thickness\n	1/2" 3G & 4G GMAW\n	NIT Certificate of Completion\n	AWS certification test available for additional fee\n\n\nLENGTH OF PROGRAM\n\n320 Hours (Homework Required)\n\nFORMAT OF PROGRAM\n\n8 Weeks (4 days per week\, 10 hours each day)\n\nConducted at the Main Campus in Palmer\, Alaska\n\nPREREQUISITES FOR ENROLLMENT\n\n18 Years of Age or Older\n\nDOT Equivalent Drug Test (If accepted\, test can be done no more than 10 days before class begins)\n\nLeather Steel Toed Boots meeting ANSI Standard 2413\n\nPre-Participation Physical\n\nCurrent SMAW AWS D1.1-latest edition 3G+4G\, or 6G (with\, or without backing). Or successfully qualify before the start of class.\n\nSocial Security Card\n\nValid Alaska Driver's License or State Issued Photo ID\n\nUPCOMING COURSES\n\nView our calendar for course dates\n\nCOURSE COST:\n\n$9\,750.00\n\nIt is the applicant's responsibility to secure funding or provide payment for tuition and any training related costs. Additional costs not included in this price are\, but not limited to: drug test and physicals\, AWS certification fees\, transportation\, room and board\, child care\, etc.
X-ALT-DESC;FMTTYPE=text/html:<p style="box-sizing: border-box\; border: 0px\; font-size: 14px\; margin: 0px 0px 20px\; outline: 0px\; padding: 0px\; vertical-align: baseline\; color: rgb(97\, 97\, 97)\; line-height: 1.8\; font-family: Roboto\, sans-serif\;">This program\, based on NCCER curriculum\, provides advanced training on stick welding procedures. An introduction is given in flux-core procedures. Trainee will be instructed on how to interpret a WPS and how to identify the codes or standards that apply. Students will be instructed in the safe and efficient method of completing a welder qualification or certification test\, under AWS code. Students will be introduced to detailed blueprint reading. Students&rsquo\; weld coupons will be subject to destructive or non-destructive testing. Over 70% of this program is spent on practical application.</p>\n\n<h3 style="box-sizing: border-box\; border: 0px\; font-size: 28px\; margin: 0px 0px 8px\; outline: 0px\; padding: 0px\; vertical-align: baseline\; clear: none\; color: rgb(23\, 28\, 36)\; font-family: Montserrat\, -apple-system\, BlinkMacSystemFont\, &quot\;Segoe UI&quot\;\, Roboto\, sans-serif\;">CURRICULUM</h3>\n\n<p style="box-sizing: border-box\; border: 0px\; font-size: 14px\; margin: 0px 0px 20px\; outline: 0px\; padding: 0px\; vertical-align: baseline\; color: rgb(97\, 97\, 97)\; line-height: 1.8\; font-family: Roboto\, sans-serif\;">Physical Characteristics and Mechanical Properties of Metals<br style="box-sizing: border-box\;" />\nPreheating and Post-heating of Metals<br style="box-sizing: border-box\;" />\nGMAW and FCAW &ndash\; Equipment and Filler Metals<br style="box-sizing: border-box\;" />\nGTAW &ndash\; Equipment and Filler Metals<br style="box-sizing: border-box\;" />\nWelding Symbols<br style="box-sizing: border-box\;" />\nReading Welding Detail Drawings</p>\n\n<h3 style="box-sizing: border-box\; border: 0px\; font-size: 28px\; margin: 0px 0px 8px\; outline: 0px\; padding: 0px\; vertical-align: baseline\; clear: none\; color: rgb(23\, 28\, 36)\; font-family: Montserrat\, -apple-system\, BlinkMacSystemFont\, &quot\;Segoe UI&quot\;\, Roboto\, sans-serif\;">CERTIFICATIONS OR CERTIFICATES</h3>\n\n<p style="box-sizing: border-box\; border: 0px\; font-size: 14px\; margin: 0px 0px 20px\; outline: 0px\; padding: 0px\; vertical-align: baseline\; color: rgb(97\, 97\, 97)\; line-height: 1.8\; font-family: Roboto\, sans-serif\;">Graduates who successfully complete the course have the opportunity to earn the following certifications or certificates:</p>\n\n<ul style="box-sizing: border-box\; border: 0px\; font-size: 14px\; margin: 0px 0px 1.5em 3em\; outline: 0px\; padding-right: 0px\; padding-left: 0px\; vertical-align: baseline\; list-style-position: initial\; list-style-image: initial\; color: rgb(98\, 98\, 98)\; font-family: Montserrat\, -apple-system\, BlinkMacSystemFont\, &quot\;Segoe UI&quot\;\, Roboto\, sans-serif\;">\n	<li style="box-sizing: border-box\; border: 0px\; font-style: inherit\; font-weight: inherit\; margin: 0px\; outline: 0px\; padding: 0px\; vertical-align: baseline\;">3G and 4G FCAW-G limited or unlimited thickness</li>\n	<li style="box-sizing: border-box\; border: 0px\; font-style: inherit\; font-weight: inherit\; margin: 0px\; outline: 0px\; padding: 0px\; vertical-align: baseline\;">1/2&rdquo\; 3G &amp\; 4G GMAW</li>\n	<li style="box-sizing: border-box\; border: 0px\; font-style: inherit\; font-weight: inherit\; margin: 0px\; outline: 0px\; padding: 0px\; vertical-align: baseline\;">NIT Certificate of Completion</li>\n	<li style="box-sizing: border-box\; border: 0px\; font-style: inherit\; font-weight: inherit\; margin: 0px\; outline: 0px\; padding: 0px\; vertical-align: baseline\;">AWS certification test available for additional fee</li>\n</ul>\n\n<h3 style="box-sizing: border-box\; border: 0px\; font-size: 28px\; margin: 0px 0px 8px\; outline: 0px\; padding: 0px\; vertical-align: baseline\; clear: none\; color: rgb(23\, 28\, 36)\; font-family: Montserrat\, -apple-system\, BlinkMacSystemFont\, &quot\;Segoe UI&quot\;\, Roboto\, sans-serif\;">LENGTH OF PROGRAM</h3>\n\n<p style="box-sizing: border-box\; border: 0px\; font-size: 14px\; margin: 0px 0px 20px\; outline: 0px\; padding: 0px\; vertical-align: baseline\; color: rgb(97\, 97\, 97)\; line-height: 1.8\; font-family: Roboto\, sans-serif\;">320 Hours (Homework Required)</p>\n\n<h3 style="box-sizing: border-box\; border: 0px\; font-size: 28px\; margin: 0px 0px 8px\; outline: 0px\; padding: 0px\; vertical-align: baseline\; clear: none\; color: rgb(23\, 28\, 36)\; font-family: Montserrat\, -apple-system\, BlinkMacSystemFont\, &quot\;Segoe UI&quot\;\, Roboto\, sans-serif\;">FORMAT OF PROGRAM</h3>\n\n<p style="box-sizing: border-box\; border: 0px\; font-size: 14px\; margin: 0px 0px 20px\; outline: 0px\; padding: 0px\; vertical-align: baseline\; color: rgb(97\, 97\, 97)\; line-height: 1.8\; font-family: Roboto\, sans-serif\;">8 Weeks (4 days per week\, 10 hours each day)<br style="box-sizing: border-box\;" />\nConducted at the Main Campus in Palmer\, Alaska</p>\n\n<h3 style="box-sizing: border-box\; border: 0px\; font-size: 28px\; margin: 0px 0px 8px\; outline: 0px\; padding: 0px\; vertical-align: baseline\; clear: none\; color: rgb(23\, 28\, 36)\; font-family: Montserrat\, -apple-system\, BlinkMacSystemFont\, &quot\;Segoe UI&quot\;\, Roboto\, sans-serif\;">PREREQUISITES FOR ENROLLMENT</h3>\n\n<p style="box-sizing: border-box\; border: 0px\; font-size: 14px\; margin: 0px 0px 20px\; outline: 0px\; padding: 0px\; vertical-align: baseline\; color: rgb(97\, 97\, 97)\; line-height: 1.8\; font-family: Roboto\, sans-serif\;">18 Years of Age or Older<br style="box-sizing: border-box\;" />\nDOT Equivalent Drug Test (If accepted\, test can be done no more than 10 days before class begins)<br style="box-sizing: border-box\;" />\nLeather Steel Toed Boots meeting ANSI Standard 2413<br style="box-sizing: border-box\;" />\nPre-Participation Physical<br style="box-sizing: border-box\;" />\nCurrent SMAW AWS D1.1-latest edition 3G+4G\, or 6G (with\, or without backing). Or successfully qualify before the start of class.<br style="box-sizing: border-box\;" />\nSocial Security Card<br style="box-sizing: border-box\;" />\nValid Alaska Driver&rsquo\;s License or State Issued Photo ID</p>\n\n<h3 style="box-sizing: border-box\; border: 0px\; font-size: 28px\; margin: 0px 0px 8px\; outline: 0px\; padding: 0px\; vertical-align: baseline\; clear: none\; color: rgb(23\, 28\, 36)\; font-family: Montserrat\, -apple-system\, BlinkMacSystemFont\, &quot\;Segoe UI&quot\;\, Roboto\, sans-serif\;">UPCOMING COURSES</h3>\n\n<p style="box-sizing: border-box\; border: 0px\; font-size: 14px\; margin: 0px 0px 20px\; outline: 0px\; padding: 0px\; vertical-align: baseline\; color: rgb(97\, 97\, 97)\; line-height: 1.8\; font-family: Roboto\, sans-serif\;">View our calendar for course dates</p>\n\n<h3 style="box-sizing: border-box\; border: 0px\; font-size: 28px\; margin: 0px 0px 8px\; outline: 0px\; padding: 0px\; vertical-align: baseline\; clear: none\; color: rgb(23\, 28\, 36)\; font-family: Montserrat\, -apple-system\, BlinkMacSystemFont\, &quot\;Segoe UI&quot\;\, Roboto\, sans-serif\;">COURSE COST:</h3>\n\n<p style="box-sizing: border-box\; border: 0px\; font-size: 14px\; margin: 0px 0px 20px\; outline: 0px\; padding: 0px\; vertical-align: baseline\; color: rgb(97\, 97\, 97)\; line-height: 1.8\; font-family: Roboto\, sans-serif\;">$9\,750.00</p>\n\n<p style="box-sizing: border-box\; border: 0px\; font-size: 14px\; margin: 0px 0px 20px\; outline: 0px\; padding: 0px\; vertical-align: baseline\; color: rgb(97\, 97\, 97)\; line-height: 1.8\; font-family: Roboto\, sans-serif\;">It is the applicant&rsquo\;s responsibility to secure funding or provide payment for tuition and any training related costs. Additional costs not included in this price are\, but not limited to: drug test and physicals\, AWS certification fees\, transportation\, room and board\, child care\, etc.</p>\n
LOCATION:Northern Industrial Training Campus 1710 N. Terrilou Ct. Palmer\, AK 99645
UID:e.3185.14129
SEQUENCE:3
DTSTAMP:20260424T024600Z
URL:http://business.wasillachamber.org/events/details/nit-advanced-welding-training-starts-14129
END:VEVENT

END:VCALENDAR
