BEGIN:VCALENDAR
VERSION:2.0
PRODID:-//ChamberMaster//Event Calendar 2.0//EN
METHOD:PUBLISH
X-PUBLISHED-TTL:P3D
REFRESH-INTERVAL:P3D
CALSCALE:GREGORIAN
BEGIN:VEVENT
DTSTART:20201214T180000Z
DTEND:20201215T010000Z
X-MICROSOFT-CDO-ALLDAYEVENT:FALSE
SUMMARY:NIT Administrative Assistant Live Online Program Begins
DESCRIPTION:Northern Industrial Training is offering Live Online Program for Administrative Assistant.\n\n*must have internet with camera\, mic and MS Office Suite 2016*\n\nGrant Funds available for eligible participants.\n\n\n\nProgram Runs 12/14/2020 - 01/14/2021 with plans for the program to be recurring monthly.
X-ALT-DESC;FMTTYPE=text/html:Northern Industrial Training is offering Live Online Program for Administrative Assistant.<br />\n*must have internet with camera\, mic and MS Office Suite 2016*<br />\nGrant Funds available for eligible participants.<br />\n<br />\nProgram Runs 12/14/2020 - 01/14/2021 with plans for the program to be recurring monthly.
LOCATION:Online
UID:e.3185.9912
SEQUENCE:3
DTSTAMP:20260424T132623Z
URL:http://business.wasillachamber.org/events/details/nit-administrative-assistant-live-online-program-begins-9912
END:VEVENT

END:VCALENDAR
