BEGIN:VCALENDAR
VERSION:2.0
PRODID:-//ChamberMaster//Event Calendar 2.0//EN
METHOD:PUBLISH
X-PUBLISHED-TTL:P3D
REFRESH-INTERVAL:P3D
CALSCALE:GREGORIAN
BEGIN:VEVENT
DTSTART:20210227T020000Z
DTEND:20210227T020000Z
X-MICROSOFT-CDO-ALLDAYEVENT:FALSE
SUMMARY:MTA Board Candidate Application Deadline
DESCRIPTION:Board Candidate Application\n\nInformation and Deadlines\n\nTwo directors will be elected to the MTA Board in the upcoming 2021 election. Applications and all required attachments for the Nominating Committee's review must be received (not postmarked) by 5:00 p.m.\, Friday\, February 26\, 2021.\n\nMembers may also petition to have their names on the ballot. Applications and all required attachments for petition must be received (not postmarked) by 5:00 p.m.\, March 19\, 2021.\n\nMTA members who are interested in submitting a Board Candidate Application can download the fillable candidate application (.pdf) using the link below or call 761-2608 to make arrangements to pick up a printed copy. Additional information on this process can be found by referencing the links below. At this time\, MTA's lobbies remain closed to the public due to COVID-19 safety and health measures.
X-ALT-DESC;FMTTYPE=text/html:<p style="box-sizing: border-box\; margin: 0px\; padding: 0px 0px 1em\; border: 0px\; outline: 0px\; font-size: 14px\; text-size-adjust: 100%\; vertical-align: baseline\; background-image: initial\; background-position: initial\; background-size: initial\; background-repeat: initial\; background-attachment: initial\; background-origin: initial\; background-clip: initial\; color: rgb(102\, 102\, 102)\; font-family: &quot\;Open Sans&quot\;\, Arial\, sans-serif\;"><span style="box-sizing: border-box\; margin: 0px\; padding: 0px\; border: 0px\; outline: 0px\; text-size-adjust: 100%\; vertical-align: baseline\; background: transparent\; font-weight: 700\;">Board Candidate Application</span></p>\n\n<p style="box-sizing: border-box\; margin: 0px\; padding: 0px 0px 1em\; border: 0px\; outline: 0px\; font-size: 14px\; text-size-adjust: 100%\; vertical-align: baseline\; background-image: initial\; background-position: initial\; background-size: initial\; background-repeat: initial\; background-attachment: initial\; background-origin: initial\; background-clip: initial\; color: rgb(102\, 102\, 102)\; font-family: &quot\;Open Sans&quot\;\, Arial\, sans-serif\;"><u style="box-sizing: border-box\; margin: 0px\; padding: 0px\; border: 0px\; outline: 0px\; text-size-adjust: 100%\; vertical-align: baseline\; background: transparent\;">Information and Deadlines</u></p>\n\n<p style="box-sizing: border-box\; margin: 0px\; padding: 0px 0px 1em\; border: 0px\; outline: 0px\; font-size: 14px\; text-size-adjust: 100%\; vertical-align: baseline\; background-image: initial\; background-position: initial\; background-size: initial\; background-repeat: initial\; background-attachment: initial\; background-origin: initial\; background-clip: initial\; color: rgb(102\, 102\, 102)\; font-family: &quot\;Open Sans&quot\;\, Arial\, sans-serif\;">Two directors will be elected to the MTA Board in the upcoming 2021 election. Applications and all required attachments for the Nominating Committee&rsquo\;s review must be received (not postmarked) by 5:00 p.m.\, Friday\, February 26\, 2021.</p>\n\n<p style="box-sizing: border-box\; margin: 0px\; padding: 0px 0px 1em\; border: 0px\; outline: 0px\; font-size: 14px\; text-size-adjust: 100%\; vertical-align: baseline\; background-image: initial\; background-position: initial\; background-size: initial\; background-repeat: initial\; background-attachment: initial\; background-origin: initial\; background-clip: initial\; color: rgb(102\, 102\, 102)\; font-family: &quot\;Open Sans&quot\;\, Arial\, sans-serif\;">Members may also petition to have their names on the ballot. Applications and all required attachments for petition must be received (not postmarked) by 5:00 p.m.\, March 19\, 2021.</p>\n\n<p style="box-sizing: border-box\; margin: 0px\; padding: 0px 0px 1em\; border: 0px\; outline: 0px\; font-size: 14px\; text-size-adjust: 100%\; vertical-align: baseline\; background-image: initial\; background-position: initial\; background-size: initial\; background-repeat: initial\; background-attachment: initial\; background-origin: initial\; background-clip: initial\; color: rgb(102\, 102\, 102)\; font-family: &quot\;Open Sans&quot\;\, Arial\, sans-serif\;">MTA members who are interested in submitting a Board Candidate Application can download the fillable&nbsp\;candidate application (.pdf)&nbsp\;using the link below or call 761-2608 to make arrangements to pick up a printed copy. Additional information on this process can be found by referencing the links below. At this time\, MTA&rsquo\;s lobbies remain closed to the public due to COVID-19 safety and health measures.</p>\n
LOCATION:
UID:e.3185.10695
SEQUENCE:3
DTSTAMP:20260422T210140Z
URL:http://business.wasillachamber.org/events/details/mta-board-candidate-application-deadline-10695
END:VEVENT

END:VCALENDAR
