BEGIN:VCALENDAR
VERSION:2.0
PRODID:-//ChamberMaster//Event Calendar 2.0//EN
METHOD:PUBLISH
X-PUBLISHED-TTL:P3D
REFRESH-INTERVAL:P3D
CALSCALE:GREGORIAN
BEGIN:VEVENT
DTSTART:20220611T220000Z
DTEND:20220612T000000Z
X-MICROSOFT-CDO-ALLDAYEVENT:FALSE
SUMMARY:MSB Vermi-Composting Worms Class with Valley Community for Recycling Solutions
DESCRIPTION:The Borough offers composting classes free of charge to Mat-Su residents. More information can be found on our Facebook page. Registration is REQUIRED by sending an email to compost@matsugov.us or calling 907-795-3722.\n\nOur Goal: Organic matter in the landfill takes up valuable space and creates greenhouse gases. The purpose of this Mat-Su Borough program is to keep this valuable material out of our landfill and reduce our carbon emissions. Our goal is to save you money by reducing waste disposal costs and empower you to transform organic waste into beneficial compost. We provide you free training and a Compost Hotline.\n\n\nVermi-Composting (worms) Classes will teach you how to successfully start and manage a worm bin: avoid flies and stench\; and utilize finished vermi-compost.
X-ALT-DESC;FMTTYPE=text/html:<p style="box-sizing: border-box\; margin: 0px 0px 12.5px\; line-height: 27.2px\; color: rgb(102\, 102\, 102)\; font-family: droid_serifregular\, Georgia\, &quot\;Times New Roman&quot\;\, Times\, serif\; font-size: 16px\; background-color: rgb(241\, 241\, 241)\;">The Borough offers composting classes free of charge to Mat-Su residents. More information can be found on our&nbsp\;<a href="https://www.facebook.com/MatSuLandfill/" rel="noopener noreferrer" style="box-sizing: border-box\; background-color: transparent\; color: rgb(37\, 81\, 152)\; text-decoration-line: none\;" target="_blank">Facebook</a>&nbsp\;page. Registration is REQUIRED by sending an email to&nbsp\;<span id="cloak4a8a62478721517d06751a46c4650234" style="box-sizing: border-box\;"><a href="mailto:compost@matsugov.us" style="box-sizing: border-box\; background-color: transparent\; color: rgb(37\, 81\, 152)\; text-decoration-line: none\;">compost@matsugov.us</a></span>&nbsp\;or calling 907-795-3722.</p>\n\n<p style="box-sizing: border-box\; margin: 0px 0px 12.5px\; line-height: 27.2px\; color: rgb(102\, 102\, 102)\; font-family: droid_serifregular\, Georgia\, &quot\;Times New Roman&quot\;\, Times\, serif\; font-size: 16px\; background-color: rgb(241\, 241\, 241)\;">Our Goal: Organic matter in the landfill takes up valuable space and creates greenhouse gases. The purpose of this Mat-Su Borough program is to keep this valuable material out of our landfill and reduce our carbon emissions. Our goal is to save you money by reducing waste disposal costs and empower you to transform organic waste into beneficial compost. We provide you free training and a Compost Hotline.</p>\n<br />\n<span style="font-size:18px\;">Vermi-Composting (worms) Classes will teach you how to successfully start and manage a worm bin: avoid flies and stench\; and utilize finished vermi-compost.</span>
LOCATION:Valley Community for Recycling Solutions 9465 E Chanlyut Cir. Palmer\, AK 99645
UID:e.3185.16542
SEQUENCE:3
DTSTAMP:20260422T040149Z
URL:http://business.wasillachamber.org/events/details/msb-vermi-composting-worms-class-with-valley-community-for-recycling-solutions-16542
END:VEVENT

END:VCALENDAR
