BEGIN:VCALENDAR
VERSION:2.0
PRODID:-//ChamberMaster//Event Calendar 2.0//EN
METHOD:PUBLISH
X-PUBLISHED-TTL:P3D
REFRESH-INTERVAL:P3D
CALSCALE:GREGORIAN
BEGIN:VEVENT
DTSTART:20210430T010000Z
DTEND:20210430T020000Z
X-MICROSOFT-CDO-ALLDAYEVENT:FALSE
SUMMARY:Modernizing MTA Informative Session
DESCRIPTION:While we're always finding new ways to adapt and modernize\, it's important to us that our members are onboard with these changes. Join our team as we walk you through the three proposed Article amendments appearing on the ballot at the upcoming election
X-ALT-DESC;FMTTYPE=text/html:<span style="color: rgb(5\, 5\, 5)\; font-family: &quot\;Segoe UI Historic&quot\;\, &quot\;Segoe UI&quot\;\, Helvetica\, Arial\, sans-serif\; font-size: 15px\;">While we&rsquo\;re always finding new ways to adapt and modernize\, it&rsquo\;s important to us that our members are onboard with these changes. Join our team as we walk you through the three proposed Article amendments appearing on the ballot at the upcoming election</span>
LOCATION:Online Via ZOOM Meetings
UID:e.3185.13542
SEQUENCE:3
DTSTAMP:20260423T031349Z
URL:http://business.wasillachamber.org/events/details/modernizing-mta-informative-session-13542
END:VEVENT

END:VCALENDAR
