BEGIN:VCALENDAR
VERSION:2.0
PRODID:-//ChamberMaster//Event Calendar 2.0//EN
METHOD:PUBLISH
X-PUBLISHED-TTL:P3D
REFRESH-INTERVAL:P3D
CALSCALE:GREGORIAN
BEGIN:VEVENT
DTSTART:20220402T190000Z
DTEND:20220402T200000Z
X-MICROSOFT-CDO-ALLDAYEVENT:FALSE
SUMMARY:Memorial Service for Congressman Don Young
DESCRIPTION:Congressman Young's family\, friends\, and staff invite you to a service in Anchorage memorializing his life and legacy.\n\nThis event is open to the public and we encourage anyone who wants to honor Congressman Young's accomplishments on behalf of Alaska to join us at Anchorage Baptist Temple on April 2nd.\n\n \n\nLive stream details are forthcoming.
X-ALT-DESC;FMTTYPE=text/html:<span style="color:black\;"><span style="font-size:12pt\;">Congressman Young&rsquo\;s family\, friends\, and staff invite you to a service in Anchorage memorializing his life and legacy.<br />\nThis event is open to the public and we encourage anyone who wants to honor Congressman Young&rsquo\;s accomplishments on behalf of Alaska to join us at Anchorage Baptist Temple on April 2<sup>nd</sup>.</span></span><br />\n&nbsp\;<br />\n<span style="color:black\;"><span style="font-size:12pt\;">Live stream details are forthcoming.</span></span>
LOCATION:Anchorage Baptist Temple 6401 E Northern Lights Blvd #3312 Anchorage\, AK 99504
UID:e.3185.16416
SEQUENCE:3
DTSTAMP:20260423T075942Z
URL:http://business.wasillachamber.org/events/details/memorial-service-for-congressman-don-young-16416
END:VEVENT

END:VCALENDAR
