BEGIN:VCALENDAR
VERSION:2.0
PRODID:-//ChamberMaster//Event Calendar 2.0//EN
METHOD:PUBLISH
X-PUBLISHED-TTL:P3D
REFRESH-INTERVAL:P3D
CALSCALE:GREGORIAN
BEGIN:VEVENT
DTSTART:20220621T193000Z
DTEND:20220621T213000Z
X-MICROSOFT-CDO-ALLDAYEVENT:FALSE
SUMMARY:Member Appreciation FUN DAY!
DESCRIPTION:2022 Greater Wasilla Chamber of Commerce Member Appreciation FUN DAY!\n\n\n\nJoin us for lunch and fun at the Extreme Fun Center!\n\nAs a THANK YOU to everyone for sticking with us over this crazy past year + and to give everyone a chance to get together and reconnect a bit while having some fun\, we are hosting a Member Appreciation Fun Day.\n\nPizza and non-alcoholic drinks are being provided by the Wasilla Chamber. The Go Cart track\, Laser Tag\, Dark Ride\, etc will all be open and available\, and all attendees will be given credit for game machines. \n\n\n\nWe are able to host this event through the generous support of The Extreme Fun Center.
X-ALT-DESC;FMTTYPE=text/html:2022 Greater Wasilla Chamber of Commerce Member Appreciation FUN DAY!<br />\n<br />\nJoin us for lunch and fun at the Extreme Fun Center!<br />\nAs a THANK YOU to everyone for sticking with us over this crazy past year + and to give everyone a chance to get together and reconnect a bit while having some fun\, we are hosting a Member Appreciation Fun Day.<br />\nPizza and non-alcoholic drinks are being provided by the Wasilla Chamber. The Go Cart track\, Laser Tag\, Dark Ride\, etc will all be open and available\, and <strong>all attendees will be given credit for game machines</strong>.&nbsp\;<br />\n<br />\n<span style="font-size:14px\;">We are able to host this event through the generous support of The Extreme Fun Center.</span>
LOCATION:Extreme Fun Center 3501 E Old Matanuska Rd Wasilla AK 99654
UID:e.3185.16421
SEQUENCE:3
DTSTAMP:20260426T031127Z
URL:http://business.wasillachamber.org/events/details/member-appreciation-fun-day-16421
END:VEVENT

END:VCALENDAR
