BEGIN:VCALENDAR
VERSION:2.0
PRODID:-//ChamberMaster//Event Calendar 2.0//EN
METHOD:PUBLISH
X-PUBLISHED-TTL:P3D
REFRESH-INTERVAL:P3D
CALSCALE:GREGORIAN
BEGIN:VEVENT
DTSTART:20210626T200000Z
DTEND:20210628T040000Z
X-MICROSOFT-CDO-ALLDAYEVENT:FALSE
SUMMARY:Meier Lake Disc Golf Classic
DESCRIPTION:Registration now open for the 2021 Meier Lake Classic this June 26-27!\n\n\n\nSpaces are limited - and going fast!\n\nregister here\n\n \nAbout this tournament\n\nOne round of 18-holes on Saturday and one round of 18-holes on Sunday at the beautiful Reserve at Meier Lake Disc Golf Course designed by 2010 World Champion Eric McCabe. Tee times will be assigned from noon to 4 PM each day. These tee times will be published on the event page at pdga.com.\n\n\n\nAwards will follow immediately after the last group in each division is finished play on Sunday (throughout the day).\n\n\n\nAll players will have a shot at either a $5\,000 or $10\,000 payout for an ace on a select hole during the event! This is in addition to the optional ace pot.\n\n\n\nGreat Player Packs for Ams! $750 added to Pro Purse.\n\n\n\n\nSPECIAL STAY AND EAT AT MEIER LAKE RESORT PACKAGES FOR DISC GOLFERS:\n\nhttps://www.meierlake.com/the-reserve
X-ALT-DESC;FMTTYPE=text/html:<div class="kvgmc6g5 cxmmr5t8 oygrvhab hcukyx3x c1et5uql ii04i59q" style="overflow-wrap: break-word\; margin: 0px\; white-space: pre-wrap\; font-family: &quot\;Segoe UI Historic&quot\;\, &quot\;Segoe UI&quot\;\, Helvetica\, Arial\, sans-serif\; color: rgb(5\, 5\, 5)\; font-size: 15px\;">\n<div dir="auto" style="font-family: inherit\;">Registration now open for the 2021 Meier Lake Classic this June 26-27!</div>\n</div>\n\n<div class="o9v6fnle cxmmr5t8 oygrvhab hcukyx3x c1et5uql ii04i59q" style="overflow-wrap: break-word\; margin: 0.5em 0px 0px\; white-space: pre-wrap\; font-family: &quot\;Segoe UI Historic&quot\;\, &quot\;Segoe UI&quot\;\, Helvetica\, Arial\, sans-serif\; color: rgb(5\, 5\, 5)\; font-size: 15px\;">\n<div dir="auto" style="font-family: inherit\;">Spaces are limited - and going fast!<br />\n<a href="https://www.discgolfscene.com/tournaments/2021_Meier_Lake_Classic/register">register here</a><br />\n&nbsp\;\n<h2 class="profile" style="margin: 0px\; padding: 0.5em 0px\; border: 0px\; outline: 0px\; font-weight: bold\; font-size: 16px\; font-family: Arial\, sans-serif\; vertical-align: baseline\; background-color: rgb(250\, 250\, 250)\;">About this tournament</h2>\n\n<div class="tournament-about" style="margin: 0px\; padding: 0px\; border: 0px\; outline: 0px\; font-size: 0.8em\; font-family: Arial\, sans-serif\; vertical-align: baseline\; line-height: 1.1em\; width: 303px\; overflow-wrap: break-word\; color: rgb(0\, 0\, 0)\; background-color: rgb(250\, 250\, 250)\;">One round of 18-holes on Saturday and one round of 18-holes on Sunday at the beautiful Reserve at Meier Lake Disc Golf Course designed by 2010 World Champion Eric McCabe. Tee times will be assigned from noon to 4 PM each day. These tee times will be published on the event page at pdga.com.<br />\n<br />\nAwards will follow immediately after the last group in each division is finished play on Sunday (throughout the day).<br />\n<br />\nAll players will have a shot at either a $5\,000 or $10\,000 payout for an ace on a select hole during the event! This is in addition to the optional ace pot.<br />\n<br />\nGreat Player Packs for Ams! $750 added to Pro Purse.</div>\n<br />\n<br />\n<span style="color: rgb(0\, 0\, 0)\; font-family: Arial\, sans-serif\; font-size: 12.8px\; background-color: rgb(250\, 250\, 250)\;">SPECIAL STAY AND EAT AT MEIER LAKE RESORT PACKAGES FOR DISC GOLFERS:</span><br style="color: rgb(0\, 0\, 0)\; font-family: Arial\, sans-serif\; font-size: 12.8px\; background-color: rgb(250\, 250\, 250)\;" />\n<a class="link-external" href="https://www.meierlake.com/the-reserve" rel="nofollow" style="margin: 0px\; padding-top: 0px\; padding-bottom: 0px\; padding-left: 0px\; border: 0px\; outline: 0px\; font-size: 12.8px\; font-family: Arial\, sans-serif\; vertical-align: baseline\; background: url(&quot\;images/link-external-u.png&quot\;) 100% 50% no-repeat rgb(250\, 250\, 250)\; padding-right: 14px !important\; color: rgb(102\, 102\, 102) !important\;">https://www.meierlake.com/the-reserve</a></div>\n</div>\n
LOCATION:Meier Lake 6059 N Wasilla Fishhook Rd. Wasilla\, AK 99654
UID:e.3185.13088
SEQUENCE:3
DTSTAMP:20260423T201718Z
URL:http://business.wasillachamber.org/events/details/meier-lake-disc-golf-classic-13088
END:VEVENT

END:VCALENDAR
