BEGIN:VCALENDAR
VERSION:2.0
PRODID:-//ChamberMaster//Event Calendar 2.0//EN
METHOD:PUBLISH
X-PUBLISHED-TTL:P3D
REFRESH-INTERVAL:P3D
CALSCALE:GREGORIAN
BEGIN:VEVENT
DTSTART;VALUE=DATE:20231129
DTEND;VALUE=DATE:20231209
TRANSP:TRANSPARENT
X-MICROSOFT-CDO-ALLDAYEVENT:TRUE
SUMMARY:MEA Holiday Lights Contest
DESCRIPTION:If you have decorated your home or business with lights for the holidays\, you can enter our annual Holiday Lights Contest and possibly win a gift certificate for electricity! All you need to do is submit a photo of your holiday lights to us either through Facebook messenger or by email to pr@mea.coop. Photo entries will be accepted through Dec. 8th. All photo entries will be posted on our MEA Facebook page for members to like and vote on for their favorite lights. A first\, second and third place winner will be chosen for the residential and commercial categories. Thanks for lighting up our communities and spreading holiday cheer!\n\n\n\nAll holiday lights contest entrants must meet the following criteria:\n\n1) Must be an active MEA member whose primary residence or business is in MEA's service territory.\n\n2) Must be from decorations in the current (2023) year.\n\n3) Entrants cannot be previous winner.\n\n4) A business winner and residential winner will be selected by photo votes through our Facebook page.\n\nVisit https://www.mea.coop/news/mea-lights-contest to learn more.
X-ALT-DESC;FMTTYPE=text/html:<div class="xdj266r x11i5rnm xat24cr x1mh8g0r x1vvkbs x126k92a" style="margin: 0px\; overflow-wrap: break-word\; white-space-collapse: preserve\; font-family: &quot\;Segoe UI Historic&quot\;\, &quot\;Segoe UI&quot\;\, Helvetica\, Arial\, sans-serif\; color: rgb(5\, 5\, 5)\; font-size: 15px\; background-color: rgb(255\, 255\, 255)\;">\n<div dir="auto" style="font-family: inherit\;">If you have decorated your home or business with lights for the holidays\, you can enter our annual Holiday Lights Contest and possibly win a gift certificate for electricity! All you need to do is submit a photo of your holiday lights to us either through Facebook messenger or by email to pr@mea.coop. Photo entries will be accepted through Dec. 8th. All photo entries will be posted on our MEA Facebook page for members to like and vote on for their favorite lights. A first\, second and third place winner will be chosen for the residential and commercial categories. Thanks for lighting up our communities and spreading holiday cheer!</div>\n</div>\n\n<div class="x11i5rnm xat24cr x1mh8g0r x1vvkbs xtlvy1s x126k92a" style="margin: 0.5em 0px 0px\; overflow-wrap: break-word\; white-space-collapse: preserve\; font-family: &quot\;Segoe UI Historic&quot\;\, &quot\;Segoe UI&quot\;\, Helvetica\, Arial\, sans-serif\; color: rgb(5\, 5\, 5)\; font-size: 15px\; background-color: rgb(255\, 255\, 255)\;">\n<div dir="auto" style="font-family: inherit\;">All holiday lights contest entrants must meet the following criteria:</div>\n\n<div dir="auto" style="font-family: inherit\;">1) Must be an active MEA member whose primary residence or business is in MEA&rsquo\;s service territory.</div>\n\n<div dir="auto" style="font-family: inherit\;">2) Must be from decorations in the current (2023) year.</div>\n\n<div dir="auto" style="font-family: inherit\;">3) Entrants cannot be previous winner.</div>\n\n<div dir="auto" style="font-family: inherit\;">4) A business winner and residential winner will be selected by photo votes through our Facebook page.</div>\n\n<div dir="auto" style="font-family: inherit\;">Visit <span style="font-family: inherit\;"><a class="x1i10hfl xjbqb8w x6umtig x1b1mbwd xaqea5y xav7gou x9f619 x1ypdohk xt0psk2 xe8uvvx xdj266r x11i5rnm xat24cr x1mh8g0r xexx8yu x4uap5 x18d9i69 xkhd6sd x16tdsg8 x1hl2dhg xggy1nq x1a2a7pz xt0b8zv x1fey0fg" href="https://www.mea.coop/news/mea-lights-contest" rel="nofollow noreferrer" role="link" style="cursor: pointer\; text-decoration-line: none\; outline: none\; border-width: 0px\; border-style: initial\; border-color: initial\; list-style: none\; margin: 0px\; text-align: inherit\; padding: 0px\; box-sizing: border-box\; background-color: transparent\; -webkit-tap-highlight-color: transparent\; touch-action: manipulation\; display: inline\; font-family: inherit\;" tabindex="0" target="_blank">https://www.mea.coop/news/mea-lights-contest</a></span> to learn more.</div>\n</div>\n
LOCATION:Matanuska Valley
UID:e.3185.21835
SEQUENCE:3
DTSTAMP:20260419T124444Z
URL:http://business.wasillachamber.org/events/details/mea-holiday-lights-contest-21835
END:VEVENT

END:VCALENDAR
