BEGIN:VCALENDAR
VERSION:2.0
PRODID:-//ChamberMaster//Event Calendar 2.0//EN
METHOD:PUBLISH
X-PUBLISHED-TTL:P3D
REFRESH-INTERVAL:P3D
CALSCALE:GREGORIAN
BEGIN:VEVENT
DTSTART;VALUE=DATE:20210331
DTEND;VALUE=DATE:20210401
TRANSP:TRANSPARENT
X-MICROSOFT-CDO-ALLDAYEVENT:TRUE
SUMMARY:MEA Charitable Foundation Round Up Program Deadline
DESCRIPTION:Each month you can round up your bill to the nearest dollar amount and give that extra change to Operation Round Up. Each participating member gives between $. 11 to $11.88 annually.\nOrganizations within our service territory can apply for grants through our MEA Charitable Foundation (led by a volunteer Board) that is supported by the funds provided by our members through Operation Round Up.\n\nEvery extra penny you provide stays local.\n\nFor more information on Operation Round Up\, click here.\n\n\n\nDEADLINE MARCH 31ST
X-ALT-DESC;FMTTYPE=text/html:<span style="color: rgb(32\, 33\, 36)\; font-family: arial\, sans-serif\; font-size: 16px\;">Each month you can&nbsp\;</span><b style="color: rgb(32\, 33\, 36)\; font-family: arial\, sans-serif\; font-size: 16px\;">round up</b><span style="color: rgb(32\, 33\, 36)\; font-family: arial\, sans-serif\; font-size: 16px\;">&nbsp\;your bill to the nearest dollar amount and give that extra change to&nbsp\;</span><b style="color: rgb(32\, 33\, 36)\; font-family: arial\, sans-serif\; font-size: 16px\;">Operation Round Up</b><span style="color: rgb(32\, 33\, 36)\; font-family: arial\, sans-serif\; font-size: 16px\;">. Each participating member gives between $. 11 to $11.88 annually.</span>\n<p style="box-sizing: border-box\; margin-top: 0px\; margin-bottom: 16px\; font-size: 16px\; line-height: 1.6\; color: rgb(45\, 56\, 72)\; font-family: Inter\, sans-serif\;">Organizations within our service territory can apply for grants through our MEA Charitable Foundation (led by a volunteer Board) that is supported by the funds provided by our members through Operation Round Up.</p>\n\n<p style="box-sizing: border-box\; margin-top: 0px\; margin-bottom: 16px\; font-size: 16px\; line-height: 1.6\; color: rgb(45\, 56\, 72)\; font-family: Inter\, sans-serif\;">Every extra penny you provide stays local.</p>\n\n<p style="box-sizing: border-box\; margin-top: 0px\; margin-bottom: 16px\; font-size: 16px\; line-height: 1.6\; color: rgb(45\, 56\, 72)\; font-family: Inter\, sans-serif\;">For more information on Operation Round Up\,&nbsp\;<a href="https://www.mea.coop/connect/operation-roundup" style="box-sizing: border-box\; background-color: transparent\; color: rgb(0\, 73\, 149)\;"><span style="box-sizing: border-box\; font-weight: 700\;"><em style="box-sizing: border-box\;">click here</em></span></a>.<br />\n<br />\nDEADLINE MARCH 31ST</p>\n
LOCATION:
UID:e.3185.13229
SEQUENCE:3
DTSTAMP:20260423T001123Z
URL:http://business.wasillachamber.org/events/details/mea-charitable-foundation-round-up-program-deadline-13229
END:VEVENT

END:VCALENDAR
