BEGIN:VCALENDAR
VERSION:2.0
PRODID:-//ChamberMaster//Event Calendar 2.0//EN
METHOD:PUBLISH
X-PUBLISHED-TTL:P3D
REFRESH-INTERVAL:P3D
CALSCALE:GREGORIAN
BEGIN:VEVENT
DTSTART:20220624T010000Z
DTEND:20220624T030000Z
X-MICROSOFT-CDO-ALLDAYEVENT:FALSE
SUMMARY:Mat-Su Regional's Annual Bike Rodeo
DESCRIPTION:Mat-Su Regional's Annual Bike Rodeo is set for Thursday June 23rd from 5PM - 7PM!\n\n\n\nJoin us!\n\nBring your bike and helmet. Obstacle course\, safety checks\, educational and free helmets for the first 100 participants!\n\nHelmets have been donated by Mat-Su Health Foundation.
X-ALT-DESC;FMTTYPE=text/html:Mat-Su Regional&#39\;s Annual Bike Rodeo is set for Thursday June 23rd from 5PM - 7PM!<br />\n<br />\nJoin us!<br />\nBring your bike and helmet. Obstacle course\, safety checks\, educational and free helmets for the first 100 participants!<br />\nHelmets have been donated by Mat-Su Health Foundation.
LOCATION:Mat-Su Regional Medical Center 2500 S Woodworth Loop Palmer\, AK 99645
UID:e.3185.16688
SEQUENCE:3
DTSTAMP:20260423T022124Z
URL:http://business.wasillachamber.org/events/details/mat-su-regional-s-annual-bike-rodeo-16688
END:VEVENT

END:VCALENDAR
