BEGIN:VCALENDAR
VERSION:2.0
PRODID:-//ChamberMaster//Event Calendar 2.0//EN
METHOD:PUBLISH
X-PUBLISHED-TTL:P3D
REFRESH-INTERVAL:P3D
CALSCALE:GREGORIAN
BEGIN:VEVENT
DTSTART:20210823T020000Z
DTEND:20210823T033000Z
X-MICROSOFT-CDO-ALLDAYEVENT:FALSE
SUMMARY:Martina McBride at the Alaska State Fair
DESCRIPTION:2021 AT&T Concert Series\n\nMartina McBride\n\nConocoPhillips Borealis Theatre\n\nMartina McBride is a multiple Grammy -nominated country icon who has garnered six #1 hits and 20 top 10 singles\, including "Independence Day\," "This One's for the Girls\," "A Broken Wing" and "Valentine." She's also earned 14 Gold\, nine Platinum\, three Double Platinum and two Triple Platinum certifications\, and been honored with more than 15 major music awards. Her latest song\, "Girls Like Me\," debuted on NBC's Songland in spring 2020.
X-ALT-DESC;FMTTYPE=text/html:2021 AT&amp\;T Concert Series<br />\n<strong>Martina McBride</strong><br />\nConocoPhillips Borealis Theatre<br />\nMartina McBride is a multiple Grammy&reg\;-nominated country icon who has garnered six #1 hits and 20 top 10 singles\, including &ldquo\;Independence Day\,&rdquo\; &ldquo\;This One&rsquo\;s for the Girls\,&rdquo\; &ldquo\;A Broken Wing&rdquo\; and &ldquo\;Valentine.&rdquo\; She&rsquo\;s also earned 14 Gold\, nine Platinum\, three Double Platinum and two Triple Platinum certifications\, and been honored with more than 15 major music awards. Her latest song\, &ldquo\;Girls Like Me\,&rdquo\; debuted on NBC&rsquo\;s Songland in spring 2020.
LOCATION:Alaska State Fair 2075 Glen Hwy Palmer\, AK 99645
UID:e.3185.13594
SEQUENCE:3
DTSTAMP:20260423T085557Z
URL:http://business.wasillachamber.org/events/details/martina-mcbride-13594
END:VEVENT

END:VCALENDAR
