BEGIN:VCALENDAR
VERSION:2.0
PRODID:-//ChamberMaster//Event Calendar 2.0//EN
METHOD:PUBLISH
X-PUBLISHED-TTL:P3D
REFRESH-INTERVAL:P3D
CALSCALE:GREGORIAN
BEGIN:VEVENT
DTSTART;VALUE=DATE:20190531
DTEND;VALUE=DATE:20190602
TRANSP:TRANSPARENT
X-MICROSOFT-CDO-ALLDAYEVENT:TRUE
SUMMARY:Machetanz Art Festival
DESCRIPTION:Featuring workshops in: \n\nDigital Photography\n\nDrawing\n\nGlass Work\n\nMixed Media\n\nPainting\n\nMusic\n\nQuilting\n\nWood Work\n\nand MORE!!\n\n\n\nRegistration required at: registermsc.asapconnected.com/
X-ALT-DESC;FMTTYPE=text/html:Featuring workshops in:&nbsp\;<br />\nDigital Photography<br />\nDrawing<br />\nGlass Work<br />\nMixed Media<br />\nPainting<br />\nMusic<br />\nQuilting<br />\nWood Work<br />\nand MORE!!<br />\n<br />\nRegistration required at: registermsc.asapconnected.com/
LOCATION:Mat-Su College
UID:e.3185.4214
SEQUENCE:3
DTSTAMP:20260425T180642Z
URL:http://business.wasillachamber.org/events/details/machetanz-art-festival-4214
END:VEVENT

END:VCALENDAR
