BEGIN:VCALENDAR
VERSION:2.0
PRODID:-//ChamberMaster//Event Calendar 2.0//EN
METHOD:PUBLISH
X-PUBLISHED-TTL:P3D
REFRESH-INTERVAL:P3D
CALSCALE:GREGORIAN
BEGIN:VEVENT
DTSTART;VALUE=DATE:20210626
DTEND;VALUE=DATE:20210627
TRANSP:TRANSPARENT
X-MICROSOFT-CDO-ALLDAYEVENT:TRUE
SUMMARY:Lemonade Day Alaska
DESCRIPTION:Lemonade Day Alaska is a fun\, statewide\, and no-cost educational event providing children with the opportunity to learn and apply entrepreneurial thinking. The program exists to infuse today's kids with the spirit of entrepreneurship while teaching basic business and problem-solving skills necessary to become successful\, contributing members and leaders of their communities by them starting and running their own business - a lemonade stand!\n\n\n\nMaterials can be picked up at the Chamber office.\n\nCall or email for questions.
X-ALT-DESC;FMTTYPE=text/html:Lemonade Day Alaska is a fun\, statewide\, and no-cost educational event providing children with the opportunity to learn and apply entrepreneurial thinking. The program exists to infuse today&rsquo\;s kids with the spirit of entrepreneurship while teaching basic business and problem-solving skills necessary to become successful\, contributing members and leaders of their communities by them starting and running their own business - a lemonade stand!<br />\n<br />\nMaterials can be picked up at the Chamber office.<br />\nCall or email for questions.
LOCATION:
UID:e.3185.10728
SEQUENCE:3
DTSTAMP:20260422T030735Z
URL:http://business.wasillachamber.org/events/details/lemonade-day-alaska-10728
END:VEVENT

END:VCALENDAR
