BEGIN:VCALENDAR
VERSION:2.0
PRODID:-//ChamberMaster//Event Calendar 2.0//EN
METHOD:PUBLISH
X-PUBLISHED-TTL:P3D
REFRESH-INTERVAL:P3D
CALSCALE:GREGORIAN
BEGIN:VEVENT
DTSTART:20220610T020000Z
DTEND:20220610T040000Z
X-MICROSOFT-CDO-ALLDAYEVENT:FALSE
SUMMARY:Last Frontier Axe Co Summer League Begins
DESCRIPTION:Come join us Thursday Nights from 6p - 8p\, no experience required! Prizes\, bragging rights and a guaranteed good time!\n\n\n\nSign up online at www.lastfrontieraxe.com/booking or stop by the axe house to sign up in person!
X-ALT-DESC;FMTTYPE=text/html:<div class="cxmmr5t8 oygrvhab hcukyx3x c1et5uql o9v6fnle ii04i59q" style="overflow-wrap: break-word\; margin: 0.5em 0px 0px\; white-space: pre-wrap\; font-family: &quot\;Segoe UI Historic&quot\;\, &quot\;Segoe UI&quot\;\, Helvetica\, Arial\, sans-serif\; color: rgb(5\, 5\, 5)\; font-size: 15px\;">\n<div dir="auto" style="font-family: inherit\;">Come join us Thursday Nights from 6p - 8p\, no experience required! Prizes\, bragging rights and a guaranteed good time!</div>\n</div>\n\n<div class="cxmmr5t8 oygrvhab hcukyx3x c1et5uql o9v6fnle ii04i59q" style="overflow-wrap: break-word\; margin: 0.5em 0px 0px\; white-space: pre-wrap\; font-family: &quot\;Segoe UI Historic&quot\;\, &quot\;Segoe UI&quot\;\, Helvetica\, Arial\, sans-serif\; color: rgb(5\, 5\, 5)\; font-size: 15px\;">\n<div dir="auto" style="font-family: inherit\;">Sign up online at <span style="font-family: inherit\;"><a class="oajrlxb2 g5ia77u1 qu0x051f esr5mh6w e9989ue4 r7d6kgcz rq0escxv nhd2j8a9 nc684nl6 p7hjln8o kvgmc6g5 cxmmr5t8 oygrvhab hcukyx3x jb3vyjys rz4wbd8a qt6c0cv9 a8nywdso i1ao9s8h esuyzwwr f1sip0of lzcic4wl gpro0wi8 py34i1dx" href="https://www.lastfrontieraxe.com/booking?fbclid=IwAR35IdgLoG92otf5iwMNdlRlR-tewzDaXVx_Iz38vVnQ4f8oXoeJR97B9bU" rel="nofollow noopener" role="link" style="color: var(--blue-link)\; cursor: pointer\; text-decoration-line: none\; outline: none\; list-style: none\; border-width: 0px\; border-style: initial\; border-color: initial\; padding: 0px\; margin: 0px\; touch-action: manipulation\; background-color: transparent\; text-align: inherit\; display: inline\; -webkit-tap-highlight-color: transparent\; box-sizing: border-box\; font-family: inherit\;" tabindex="0" target="_blank">www.lastfrontieraxe.com/booking</a></span> or stop by the axe house to sign up in person!</div>\n</div>\n
LOCATION:Last Frontier Axe Co. 2060 E. Foundry Way Suite 102 Wasilla\, AK 99654
UID:e.3185.16663
SEQUENCE:3
DTSTAMP:20260422T080258Z
URL:http://business.wasillachamber.org/events/details/last-frontier-axe-co-summer-league-begins-16663
END:VEVENT

END:VCALENDAR
