BEGIN:VCALENDAR
VERSION:2.0
PRODID:-//ChamberMaster//Event Calendar 2.0//EN
METHOD:PUBLISH
X-PUBLISHED-TTL:P3D
REFRESH-INTERVAL:P3D
CALSCALE:GREGORIAN
BEGIN:VEVENT
DTSTART:20210313T050000Z
DTEND:20210313T070000Z
X-MICROSOFT-CDO-ALLDAYEVENT:FALSE
SUMMARY:John Cook at Everett's
DESCRIPTION:John Cook at Everett's Mat-Su Resort
X-ALT-DESC;FMTTYPE=text/html:John Cook at Everett&#39\;s Mat-Su Resort<br />\n&nbsp\;
LOCATION:Everett's Mat-Su Resort 1850 E. Bogard Rd. Wasilla\, AK 99654
UID:e.3185.12618
SEQUENCE:3
DTSTAMP:20260423T103549Z
URL:http://business.wasillachamber.org/events/details/john-cook-at-everett-s-12618
END:VEVENT

END:VCALENDAR
