BEGIN:VCALENDAR
VERSION:2.0
PRODID:-//ChamberMaster//Event Calendar 2.0//EN
METHOD:PUBLISH
X-PUBLISHED-TTL:P3D
REFRESH-INTERVAL:P3D
CALSCALE:GREGORIAN
BEGIN:VEVENT
DTSTART:20210322T040000Z
DTEND:20210322T060000Z
X-MICROSOFT-CDO-ALLDAYEVENT:FALSE
SUMMARY:JD Cox at Everett's
DESCRIPTION:Live music with JD Cox at Everett's Mat-Su Resort
X-ALT-DESC;FMTTYPE=text/html:Live music with JD Cox at Everett&#39\;s Mat-Su Resort
LOCATION:Everett's Mat-Su Resort 1850 E. Bogard Rd. Wasilla\, AK 99654
UID:e.3185.12615
SEQUENCE:3
DTSTAMP:20260422T153812Z
URL:http://business.wasillachamber.org/events/details/jd-cox-at-everett-s-12615
END:VEVENT

END:VCALENDAR
