BEGIN:VCALENDAR
VERSION:2.0
PRODID:-//ChamberMaster//Event Calendar 2.0//EN
METHOD:PUBLISH
X-PUBLISHED-TTL:P3D
REFRESH-INTERVAL:P3D
CALSCALE:GREGORIAN
BEGIN:VEVENT
DTSTART:20210308T050000Z
DTEND:20210308T070000Z
X-MICROSOFT-CDO-ALLDAYEVENT:FALSE
SUMMARY:JD Cox at Everett's
DESCRIPTION:JD Cox live at Everett's Mat-Su Resort
X-ALT-DESC;FMTTYPE=text/html:JD Cox live at Everett&#39\;s Mat-Su Resort<br />\n&nbsp\;&nbsp\;&nbsp\;&nbsp\;
LOCATION:Everett's Mat-Su Resort 1850 E. Bogard Rd. Wasilla\, AK 99654
UID:e.3185.12610
SEQUENCE:3
DTSTAMP:20260424T170722Z
URL:http://business.wasillachamber.org/events/details/jd-cox-at-everett-s-12610
END:VEVENT

END:VCALENDAR
