BEGIN:VCALENDAR
VERSION:2.0
PRODID:-//ChamberMaster//Event Calendar 2.0//EN
METHOD:PUBLISH
X-PUBLISHED-TTL:P3D
REFRESH-INTERVAL:P3D
CALSCALE:GREGORIAN
BEGIN:VEVENT
DTSTART:20231028T030000Z
DTEND:20231028T060000Z
X-MICROSOFT-CDO-ALLDAYEVENT:FALSE
SUMMARY:Into The Woods
DESCRIPTION:Into The Woods\n\nJames Lapine and Stephen Sondheim take everyone's favorite storybook characters and bring them together for a timeless\, yet relevant\, piece  and a rare modern classic. The Tony Award-winning book and score are both enchanting and touching. The story follows a Baker and his wife\, who wish to have a child\; Cinderella\, who wishes to attend the King's Festival\; and Jack\, who wishes his cow would give milk. When the Baker and his wife learn that they cannot have a child because of a Witch's curse\, the two set off on a journey to break the curse. Everyone's wish is granted\, but the consequences of their actions return to haunt them later with disastrous results. One of Sondheim's most popular works\, Into the Woods is a musically sophisticated show with the opportunity to feature actors adept at dark comedy.
X-ALT-DESC;FMTTYPE=text/html:<span style="font-size:12px\;"><span style="font-family:tahoma\;"><span style="background-color: rgb(255\, 255\, 255)\;">Into The Woods<br />\nJames Lapine and Stephen Sondheim take everyone&rsquo\;s favorite storybook characters and bring them together for a timeless\, yet relevant\, piece&hellip\; and a rare modern classic. The Tony Award-winning book and score are both enchanting and touching. The story follows a Baker and his wife\, who wish to have a child\; Cinderella\, who wishes to attend the King&rsquo\;s Festival\; and Jack\, who wishes his cow would give milk. When the Baker and his wife learn that they cannot have a child because of a Witch&rsquo\;s curse\, the two set off on a journey to break the curse. Everyone&rsquo\;s wish is granted\, but the consequences of their actions return to haunt them later with disastrous results. One of Sondheim&rsquo\;s most popular works\,&nbsp\;</span><em style="box-sizing: border-box\; font-family: Poppins\, sans-serif\; font-size: 18.004px\; background-color: rgb(255\, 255\, 255)\;">Into the Woods</em><span style="background-color: rgb(255\, 255\, 255)\;">&nbsp\;is a musically sophisticated show with the opportunity to feature actors adept at dark comedy.</span></span></span>
LOCATION:Glenn Massay Theater
UID:e.3185.21263
SEQUENCE:3
DTSTAMP:20260419T195621Z
URL:http://business.wasillachamber.org/events/details/into-the-woods-21263
END:VEVENT

END:VCALENDAR
