BEGIN:VCALENDAR
VERSION:2.0
PRODID:-//ChamberMaster//Event Calendar 2.0//EN
METHOD:PUBLISH
X-PUBLISHED-TTL:P3D
REFRESH-INTERVAL:P3D
CALSCALE:GREGORIAN
BEGIN:VEVENT
DTSTART:20210323T203000Z
DTEND:20210323T220000Z
X-MICROSOFT-CDO-ALLDAYEVENT:FALSE
SUMMARY:How to Write a Business Plan: Step by Step Rural Webinar
DESCRIPTION:A good business plan guides you through each stage of starting and managing your business. You'll use your business plan as a roadmap for how to structure\, run\, and grow your new business. It's a way to think through the key elements of your business. Business plans can help you get funding or bring on new business partners. Investors want to feel confident they'll see a return on their investment. Your business plan is the tool you'll use to convince people that working with you   or investing in your company   is a smart choice.\n\nBelow are the steps we will go through in this workshop:\n\n1. Gather costs of starting your business and review the financial model\n\n2. Review the business plan template\n\n3. Discuss the role each section plays in developing a comprehensive plan\n\n4. Indicate which sections to begin with\n\n5. Review useful tools to complete the business plan\n\nPresented by Jennifer Adams\, Director of Rural Program Development for the Alaska SBDC.
X-ALT-DESC;FMTTYPE=text/html:<p style="margin-top: 0px\; margin-bottom: 10px\; line-height: 23.2px\; color: rgb(0\, 0\, 0)\; font-family: Lato\, Arial\, Helvetica\, sans-serif\; font-size: 16px\;">A good business plan guides you through each stage of starting and managing your business. You&rsquo\;ll use your business plan as a roadmap for how to structure\, run\, and grow your new business. It&rsquo\;s a way to think through the key elements of your business. Business plans can help you get funding or bring on new business partners. Investors want to feel confident they&rsquo\;ll see a return on their investment. Your business plan is the tool you&rsquo\;ll use to convince people that working with you &mdash\; or investing in your company &mdash\; is a smart choice.</p>\n\n<p style="margin-top: 0px\; margin-bottom: 10px\; line-height: 23.2px\; color: rgb(0\, 0\, 0)\; font-family: Lato\, Arial\, Helvetica\, sans-serif\; font-size: 16px\;">Below are the steps we will go through in this workshop:</p>\n\n<p style="margin-top: 0px\; margin-bottom: 10px\; line-height: 23.2px\; color: rgb(0\, 0\, 0)\; font-family: Lato\, Arial\, Helvetica\, sans-serif\; font-size: 16px\;">1. Gather costs of starting your business and review the financial model</p>\n\n<p style="margin-top: 0px\; margin-bottom: 10px\; line-height: 23.2px\; color: rgb(0\, 0\, 0)\; font-family: Lato\, Arial\, Helvetica\, sans-serif\; font-size: 16px\;">2. Review the business plan template</p>\n\n<p style="margin-top: 0px\; margin-bottom: 10px\; line-height: 23.2px\; color: rgb(0\, 0\, 0)\; font-family: Lato\, Arial\, Helvetica\, sans-serif\; font-size: 16px\;">3. Discuss the role each section plays in developing a comprehensive plan</p>\n\n<p style="margin-top: 0px\; margin-bottom: 10px\; line-height: 23.2px\; color: rgb(0\, 0\, 0)\; font-family: Lato\, Arial\, Helvetica\, sans-serif\; font-size: 16px\;">4. Indicate which sections to begin with</p>\n\n<p style="margin-top: 0px\; margin-bottom: 10px\; line-height: 23.2px\; color: rgb(0\, 0\, 0)\; font-family: Lato\, Arial\, Helvetica\, sans-serif\; font-size: 16px\;">5. Review useful tools to complete the business plan</p>\n\n<p style="margin-top: 0px\; margin-bottom: 10px\; line-height: 23.2px\; color: rgb(0\, 0\, 0)\; font-family: Lato\, Arial\, Helvetica\, sans-serif\; font-size: 16px\;">Presented by Jennifer Adams\, Director of Rural Program Development for the Alaska SBDC.</p>\n
LOCATION:Live Webinar
UID:e.3185.10440
SEQUENCE:3
DTSTAMP:20260424T105359Z
URL:http://business.wasillachamber.org/events/details/how-to-write-a-business-plan-step-by-step-rural-webinar-10440
END:VEVENT

END:VCALENDAR
