BEGIN:VCALENDAR
VERSION:2.0
PRODID:-//ChamberMaster//Event Calendar 2.0//EN
METHOD:PUBLISH
X-PUBLISHED-TTL:P3D
REFRESH-INTERVAL:P3D
CALSCALE:GREGORIAN
BEGIN:VEVENT
DTSTART:20201216T190000Z
DTEND:20201216T200000Z
X-MICROSOFT-CDO-ALLDAYEVENT:FALSE
SUMMARY:Home [Networking] for the Holidays
DESCRIPTION:Join us for a FREE live webinar to learn how to navigate your home network and protect your personal data.\n\n\n\n-Learn the basics of home networks\, like the difference between a modem or how WiFi works from out tech experts.\n\n-Discover how you can protect your personal data at home on the go with a variety of user management tools and identity protection features.
X-ALT-DESC;FMTTYPE=text/html:Join us for a FREE live webinar to learn how to navigate your home network and protect your personal data.<br />\n<br />\n-Learn the basics of home networks\, like the difference between a modem or how WiFi works from out tech experts.<br />\n-Discover how you can protect your personal data at home on the go with a variety of user management tools and identity protection features.
LOCATION:Online Event
UID:e.3185.9900
SEQUENCE:3
DTSTAMP:20260424T223212Z
URL:http://business.wasillachamber.org/events/details/home-networking-for-the-holidays-9900
END:VEVENT

END:VCALENDAR
