BEGIN:VCALENDAR
VERSION:2.0
PRODID:-//ChamberMaster//Event Calendar 2.0//EN
METHOD:PUBLISH
X-PUBLISHED-TTL:P3D
REFRESH-INTERVAL:P3D
CALSCALE:GREGORIAN
BEGIN:VEVENT
DTSTART:20220424T210000Z
DTEND:20220425T000000Z
X-MICROSOFT-CDO-ALLDAYEVENT:FALSE
SUMMARY:Help Janet Save the Planet Fundraising Event at Valley Community for Recycling Solutions
DESCRIPTION:"Help Janet Save the Planet" Fundraising Event\n\n\n\n-Recognize and celebrate Janet Kincaid and her dedication to recycling.\n\n-Invite family and friends\n\n-listen to local music\n\n-wearable art models\n\n\n\nThis is a zero waste event.
X-ALT-DESC;FMTTYPE=text/html:&quot\;Help Janet Save the Planet&quot\; Fundraising Event<br />\n<br />\n-Recognize and celebrate Janet Kincaid and her dedication to recycling.<br />\n-Invite family and friends<br />\n-listen to local music<br />\n-wearable art models<br />\n<br />\nThis is a zero waste event.
LOCATION:Valley Community for Recycling Solutions 9465 E Chanlyut Cir Palmer\, AK 99645
UID:e.3185.16429
SEQUENCE:3
DTSTAMP:20260419T122607Z
URL:http://business.wasillachamber.org/events/details/help-janet-save-the-planet-fundraising-event-at-valley-community-for-recycling-solutions-16429
END:VEVENT

END:VCALENDAR
