BEGIN:VCALENDAR
VERSION:2.0
PRODID:-//ChamberMaster//Event Calendar 2.0//EN
METHOD:PUBLISH
X-PUBLISHED-TTL:P3D
REFRESH-INTERVAL:P3D
CALSCALE:GREGORIAN
BEGIN:VEVENT
DTSTART;VALUE=DATE:20210803
DTEND;VALUE=DATE:20210804
TRANSP:TRANSPARENT
X-MICROSOFT-CDO-ALLDAYEVENT:TRUE
SUMMARY:Heavy Duty Mechanic Level 1 Program at NIT Begins
DESCRIPTION:PROGRAM DESCRIPTION\n\nStudents will receive training to fulfill the primary duties of an entry level heavy duty mechanic which includes checking fluid levels and performing preventive maintenance for equipment on the job site. Students will learn the proper procedures on how to document\, identify\, adjust and is some cases repair malfunctioning equipment in a safe\, compliant and effective manner. Instruction will include safety\, air systems/brakes\, tires\, hydraulic systems\, electrical systems\, handling hazardous materials\, DOT inspection requirements\, and basic welding. Over 50% of this program is spent on practical application. Students will be issued a tool kit to keep upon successful completion.\n\nCURRICULUM\n\n\n	SMAW Basic Welding\n	Introduction to Servicing Heavy Trucks\n	Tools and Fasteners\n	Maintenance Programs\n	Batteries\n	Charging Systems\n	Cranking Systems\n	Chassis Electrical Circuits\n	Diagnosis and Repair of Electrical Circuits\n	Hydraulics\n	Clutches\n	Standard Transmissions\n	Standard Transmission Servicing\n	Driveshaft Assemblies\n	Heavy Duty Truck Axles\n	Heavy Duty Truck Axle Service and Repair\n	Steering and Alignment\n	Suspension Systems\n	Wheels and Tires\n	Air Brake Servicing\n	Vehicle Chassis Frame\n	First Aid/CPR/AED\n	OSHA Forklift Safety\n\n\nCERTIFICATIONS OR CERTIFICATES\n\nGraduates who successfully complete the course have the opportunity to earn the following certifications or certificates.\n\n\n	First Aid/CPR/AED\n	OSHA Forklift Safety\n	NIT Certificate of Completion\n\n\nLENGTH OF PROGRAM\n\n\n	320 Hours (Homework Required)\n\n\nFORMAT OF PROGRAM\n\n\n	8 Weeks (4 days per week\, 10 hours each day)\n	Conducted at the Main Campus in Palmer\, Alaska\n\n\nPREREQUISITES FOR ENROLLMENT\n\n\n\n	18 Years of Age or Older\n	DOT Equivalent Drug Test (If accepted\, test can be done no more than 10 days before class begins)\n	Pre-Participation Physical\n	Social Security Card\n	Valid Alaska Driver's License or State Issued Photo ID Card\n	Recommended Work Gear\n	Leather Steel Toed Boots meeting ANSI Standard 2413\n\n\n\nCOURSE COST:\n\n$8\,800\n\nIt is the applicant's responsibility to secure funding or provide payment for tuition and any training related costs. Additional costs not included in this price are\, but not limited to: drug test and physicals\, AWS certification fees\, transportation\, room and board\, child care\, etc.
X-ALT-DESC;FMTTYPE=text/html:<h3 style="box-sizing: border-box\; border: 0px\; font-size: 28px\; margin: 0px 0px 8px\; outline: 0px\; padding: 0px\; vertical-align: baseline\; clear: none\; color: rgb(23\, 28\, 36)\; font-family: Montserrat\, -apple-system\, BlinkMacSystemFont\, &quot\;Segoe UI&quot\;\, Roboto\, sans-serif\;">PROGRAM DESCRIPTION</h3>\n\n<p style="box-sizing: border-box\; border: 0px\; font-size: 18px\; margin: 0px 0px 20px\; outline: 0px\; padding: 0px\; vertical-align: baseline\; color: rgb(97\, 97\, 97)\; line-height: 1.8\; font-family: &quot\;Museo Sans&quot\; !important\;">Students will receive training to fulfill the primary duties of an entry level heavy duty mechanic which includes checking fluid levels and performing preventive maintenance for equipment on the job site. Students will learn the proper procedures on how to document\, identify\, adjust and is some cases repair malfunctioning equipment in a safe\, compliant and effective manner. Instruction will include safety\, air systems/brakes\, tires\, hydraulic systems\, electrical systems\, handling hazardous materials\, DOT inspection requirements\, and basic welding. Over 50% of this program is spent on practical application. Students will be issued a tool kit to keep upon successful completion.</p>\n\n<h3 style="box-sizing: border-box\; border: 0px\; font-size: 28px\; margin: 0px 0px 8px\; outline: 0px\; padding: 0px\; vertical-align: baseline\; clear: none\; color: rgb(23\, 28\, 36)\; font-family: Montserrat\, -apple-system\, BlinkMacSystemFont\, &quot\;Segoe UI&quot\;\, Roboto\, sans-serif\;">CURRICULUM</h3>\n\n<ul style="box-sizing: border-box\; border: 0px\; font-size: 14px\; margin: 0px 0px 1.5em 3em\; outline: 0px\; padding-right: 0px\; padding-left: 0px\; vertical-align: baseline\; list-style-position: initial\; list-style-image: initial\; color: rgb(98\, 98\, 98)\; font-family: Montserrat\, -apple-system\, BlinkMacSystemFont\, &quot\;Segoe UI&quot\;\, Roboto\, sans-serif\;">\n	<li style="box-sizing: border-box\; border: 0px\; font-style: inherit\; font-weight: inherit\; margin: 0px\; outline: 0px\; padding: 0px\; vertical-align: baseline\;">SMAW Basic Welding</li>\n	<li style="box-sizing: border-box\; border: 0px\; font-style: inherit\; font-weight: inherit\; margin: 0px\; outline: 0px\; padding: 0px\; vertical-align: baseline\;">Introduction to Servicing Heavy Trucks</li>\n	<li style="box-sizing: border-box\; border: 0px\; font-style: inherit\; font-weight: inherit\; margin: 0px\; outline: 0px\; padding: 0px\; vertical-align: baseline\;">Tools and Fasteners</li>\n	<li style="box-sizing: border-box\; border: 0px\; font-style: inherit\; font-weight: inherit\; margin: 0px\; outline: 0px\; padding: 0px\; vertical-align: baseline\;">Maintenance Programs</li>\n	<li style="box-sizing: border-box\; border: 0px\; font-style: inherit\; font-weight: inherit\; margin: 0px\; outline: 0px\; padding: 0px\; vertical-align: baseline\;">Batteries</li>\n	<li style="box-sizing: border-box\; border: 0px\; font-style: inherit\; font-weight: inherit\; margin: 0px\; outline: 0px\; padding: 0px\; vertical-align: baseline\;">Charging Systems</li>\n	<li style="box-sizing: border-box\; border: 0px\; font-style: inherit\; font-weight: inherit\; margin: 0px\; outline: 0px\; padding: 0px\; vertical-align: baseline\;">Cranking Systems</li>\n	<li style="box-sizing: border-box\; border: 0px\; font-style: inherit\; font-weight: inherit\; margin: 0px\; outline: 0px\; padding: 0px\; vertical-align: baseline\;">Chassis Electrical Circuits</li>\n	<li style="box-sizing: border-box\; border: 0px\; font-style: inherit\; font-weight: inherit\; margin: 0px\; outline: 0px\; padding: 0px\; vertical-align: baseline\;">Diagnosis and Repair of Electrical Circuits</li>\n	<li style="box-sizing: border-box\; border: 0px\; font-style: inherit\; font-weight: inherit\; margin: 0px\; outline: 0px\; padding: 0px\; vertical-align: baseline\;">Hydraulics</li>\n	<li style="box-sizing: border-box\; border: 0px\; font-style: inherit\; font-weight: inherit\; margin: 0px\; outline: 0px\; padding: 0px\; vertical-align: baseline\;">Clutches</li>\n	<li style="box-sizing: border-box\; border: 0px\; font-style: inherit\; font-weight: inherit\; margin: 0px\; outline: 0px\; padding: 0px\; vertical-align: baseline\;">Standard Transmissions</li>\n	<li style="box-sizing: border-box\; border: 0px\; font-style: inherit\; font-weight: inherit\; margin: 0px\; outline: 0px\; padding: 0px\; vertical-align: baseline\;">Standard Transmission Servicing</li>\n	<li style="box-sizing: border-box\; border: 0px\; font-style: inherit\; font-weight: inherit\; margin: 0px\; outline: 0px\; padding: 0px\; vertical-align: baseline\;">Driveshaft Assemblies</li>\n	<li style="box-sizing: border-box\; border: 0px\; font-style: inherit\; font-weight: inherit\; margin: 0px\; outline: 0px\; padding: 0px\; vertical-align: baseline\;">Heavy Duty Truck Axles</li>\n	<li style="box-sizing: border-box\; border: 0px\; font-style: inherit\; font-weight: inherit\; margin: 0px\; outline: 0px\; padding: 0px\; vertical-align: baseline\;">Heavy Duty Truck Axle Service and Repair</li>\n	<li style="box-sizing: border-box\; border: 0px\; font-style: inherit\; font-weight: inherit\; margin: 0px\; outline: 0px\; padding: 0px\; vertical-align: baseline\;">Steering and Alignment</li>\n	<li style="box-sizing: border-box\; border: 0px\; font-style: inherit\; font-weight: inherit\; margin: 0px\; outline: 0px\; padding: 0px\; vertical-align: baseline\;">Suspension Systems</li>\n	<li style="box-sizing: border-box\; border: 0px\; font-style: inherit\; font-weight: inherit\; margin: 0px\; outline: 0px\; padding: 0px\; vertical-align: baseline\;">Wheels and Tires</li>\n	<li style="box-sizing: border-box\; border: 0px\; font-style: inherit\; font-weight: inherit\; margin: 0px\; outline: 0px\; padding: 0px\; vertical-align: baseline\;">Air Brake Servicing</li>\n	<li style="box-sizing: border-box\; border: 0px\; font-style: inherit\; font-weight: inherit\; margin: 0px\; outline: 0px\; padding: 0px\; vertical-align: baseline\;">Vehicle Chassis Frame</li>\n	<li style="box-sizing: border-box\; border: 0px\; font-style: inherit\; font-weight: inherit\; margin: 0px\; outline: 0px\; padding: 0px\; vertical-align: baseline\;">First Aid/CPR/AED</li>\n	<li style="box-sizing: border-box\; border: 0px\; font-style: inherit\; font-weight: inherit\; margin: 0px\; outline: 0px\; padding: 0px\; vertical-align: baseline\;">OSHA Forklift Safety</li>\n</ul>\n\n<h3 style="box-sizing: border-box\; border: 0px\; font-size: 28px\; margin: 0px 0px 8px\; outline: 0px\; padding: 0px\; vertical-align: baseline\; clear: none\; color: rgb(23\, 28\, 36)\; font-family: Montserrat\, -apple-system\, BlinkMacSystemFont\, &quot\;Segoe UI&quot\;\, Roboto\, sans-serif\;">CERTIFICATIONS OR CERTIFICATES</h3>\n\n<p style="box-sizing: border-box\; border: 0px\; font-size: 18px\; margin: 0px 0px 20px\; outline: 0px\; padding: 0px\; vertical-align: baseline\; color: rgb(97\, 97\, 97)\; line-height: 1.8\; font-family: &quot\;Museo Sans&quot\; !important\;">Graduates who successfully complete the course have the opportunity to earn the following certifications or certificates.</p>\n\n<ul style="box-sizing: border-box\; border: 0px\; font-size: 14px\; margin: 0px 0px 1.5em 3em\; outline: 0px\; padding-right: 0px\; padding-left: 0px\; vertical-align: baseline\; list-style-position: initial\; list-style-image: initial\; color: rgb(98\, 98\, 98)\; font-family: Montserrat\, -apple-system\, BlinkMacSystemFont\, &quot\;Segoe UI&quot\;\, Roboto\, sans-serif\;">\n	<li style="box-sizing: border-box\; border: 0px\; font-style: inherit\; font-weight: inherit\; margin: 0px\; outline: 0px\; padding: 0px\; vertical-align: baseline\;">First Aid/CPR/AED</li>\n	<li style="box-sizing: border-box\; border: 0px\; font-style: inherit\; font-weight: inherit\; margin: 0px\; outline: 0px\; padding: 0px\; vertical-align: baseline\;">OSHA Forklift Safety</li>\n	<li style="box-sizing: border-box\; border: 0px\; font-style: inherit\; font-weight: inherit\; margin: 0px\; outline: 0px\; padding: 0px\; vertical-align: baseline\;">NIT Certificate of Completion</li>\n</ul>\n\n<h3 style="box-sizing: border-box\; border: 0px\; font-size: 28px\; margin: 0px 0px 8px\; outline: 0px\; padding: 0px\; vertical-align: baseline\; clear: none\; color: rgb(23\, 28\, 36)\; font-family: Montserrat\, -apple-system\, BlinkMacSystemFont\, &quot\;Segoe UI&quot\;\, Roboto\, sans-serif\;">LENGTH OF PROGRAM</h3>\n\n<ul style="box-sizing: border-box\; border: 0px\; font-size: 14px\; margin: 0px 0px 1.5em 3em\; outline: 0px\; padding-right: 0px\; padding-left: 0px\; vertical-align: baseline\; list-style-position: initial\; list-style-image: initial\; color: rgb(98\, 98\, 98)\; font-family: Montserrat\, -apple-system\, BlinkMacSystemFont\, &quot\;Segoe UI&quot\;\, Roboto\, sans-serif\;">\n	<li style="box-sizing: border-box\; border: 0px\; font-style: inherit\; font-weight: inherit\; margin: 0px\; outline: 0px\; padding: 0px\; vertical-align: baseline\;">320 Hours (Homework Required)</li>\n</ul>\n\n<h3 style="box-sizing: border-box\; border: 0px\; font-size: 28px\; margin: 0px 0px 8px\; outline: 0px\; padding: 0px\; vertical-align: baseline\; clear: none\; color: rgb(23\, 28\, 36)\; font-family: Montserrat\, -apple-system\, BlinkMacSystemFont\, &quot\;Segoe UI&quot\;\, Roboto\, sans-serif\;">FORMAT OF PROGRAM</h3>\n\n<ul style="box-sizing: border-box\; border: 0px\; font-size: 14px\; margin: 0px 0px 1.5em 3em\; outline: 0px\; padding-right: 0px\; padding-left: 0px\; vertical-align: baseline\; list-style-position: initial\; list-style-image: initial\; color: rgb(98\, 98\, 98)\; font-family: Montserrat\, -apple-system\, BlinkMacSystemFont\, &quot\;Segoe UI&quot\;\, Roboto\, sans-serif\;">\n	<li style="box-sizing: border-box\; border: 0px\; font-style: inherit\; font-weight: inherit\; margin: 0px\; outline: 0px\; padding: 0px\; vertical-align: baseline\;">8 Weeks (4 days per week\, 10 hours each day)</li>\n	<li style="box-sizing: border-box\; border: 0px\; font-style: inherit\; font-weight: inherit\; margin: 0px\; outline: 0px\; padding: 0px\; vertical-align: baseline\;">Conducted at the Main Campus in Palmer\, Alaska</li>\n</ul>\n\n<h3 style="box-sizing: border-box\; border: 0px\; font-size: 28px\; margin: 0px 0px 8px\; outline: 0px\; padding: 0px\; vertical-align: baseline\; clear: none\; color: rgb(23\, 28\, 36)\; font-family: Montserrat\, -apple-system\, BlinkMacSystemFont\, &quot\;Segoe UI&quot\;\, Roboto\, sans-serif\;">PREREQUISITES FOR ENROLLMENT</h3>\n\n<div class="course-description" style="box-sizing: border-box\; border: 0px\; font-size: 14px\; margin: 0px\; outline: 0px\; padding: 0px\; vertical-align: baseline\; font-family: Montserrat\, -apple-system\, BlinkMacSystemFont\, &quot\;Segoe UI&quot\;\, Roboto\, sans-serif\; color: rgb(98\, 98\, 98)\;">\n<ul style="box-sizing: border-box\; border: 0px\; font-style: inherit\; font-weight: inherit\; margin: 0px 0px 1.5em 3em\; outline: 0px\; padding-right: 0px\; padding-left: 0px\; vertical-align: baseline\; list-style-position: initial\; list-style-image: initial\;">\n	<li style="box-sizing: border-box\; border: 0px\; font-style: inherit\; font-weight: inherit\; margin: 0px\; outline: 0px\; padding: 0px\; vertical-align: baseline\;">18 Years of Age or Older</li>\n	<li style="box-sizing: border-box\; border: 0px\; font-style: inherit\; font-weight: inherit\; margin: 0px\; outline: 0px\; padding: 0px\; vertical-align: baseline\;">DOT Equivalent Drug Test (If accepted\, test can be done no more than 10 days before class begins)</li>\n	<li style="box-sizing: border-box\; border: 0px\; font-style: inherit\; font-weight: inherit\; margin: 0px\; outline: 0px\; padding: 0px\; vertical-align: baseline\;">Pre-Participation Physical</li>\n	<li style="box-sizing: border-box\; border: 0px\; font-style: inherit\; font-weight: inherit\; margin: 0px\; outline: 0px\; padding: 0px\; vertical-align: baseline\;">Social Security Card</li>\n	<li style="box-sizing: border-box\; border: 0px\; font-style: inherit\; font-weight: inherit\; margin: 0px\; outline: 0px\; padding: 0px\; vertical-align: baseline\;">Valid Alaska Driver&rsquo\;s License or State Issued Photo ID Card</li>\n	<li style="box-sizing: border-box\; border: 0px\; font-style: inherit\; font-weight: inherit\; margin: 0px\; outline: 0px\; padding: 0px\; vertical-align: baseline\;">Recommended Work Gear</li>\n	<li style="box-sizing: border-box\; border: 0px\; font-style: inherit\; font-weight: inherit\; margin: 0px\; outline: 0px\; padding: 0px\; vertical-align: baseline\;">Leather Steel Toed Boots meeting ANSI Standard 2413</li>\n</ul>\n</div>\n\n<h3 style="box-sizing: border-box\; border: 0px\; font-size: 28px\; margin: 0px 0px 8px\; outline: 0px\; padding: 0px\; vertical-align: baseline\; clear: none\; color: rgb(23\, 28\, 36)\; font-family: Montserrat\, -apple-system\, BlinkMacSystemFont\, &quot\;Segoe UI&quot\;\, Roboto\, sans-serif\;">COURSE COST:</h3>\n\n<p style="box-sizing: border-box\; border: 0px\; font-size: 18px\; margin: 0px 0px 20px\; outline: 0px\; padding: 0px\; vertical-align: baseline\; color: rgb(97\, 97\, 97)\; line-height: 1.8\; font-family: &quot\;Museo Sans&quot\; !important\;">$8\,800</p>\n\n<p style="box-sizing: border-box\; border: 0px\; font-size: 18px\; margin: 0px 0px 20px\; outline: 0px\; padding: 0px\; vertical-align: baseline\; color: rgb(97\, 97\, 97)\; line-height: 1.8\; font-family: &quot\;Museo Sans&quot\; !important\;">It is the applicant&rsquo\;s responsibility to secure funding or provide payment for tuition and any training related costs. Additional costs not included in this price are\, but not limited to: drug test and physicals\, AWS certification fees\, transportation\, room and board\, child care\, etc.</p>\n
LOCATION:Northern Industrial Training Palmer Main Campus 1740 N. Terrilou Ct. Palmer\, AK 99645
UID:e.3185.14171
SEQUENCE:3
DTSTAMP:20260425T024316Z
URL:http://business.wasillachamber.org/events/details/heavy-duty-mechanic-level-1-program-at-nit-begins-14171
END:VEVENT

END:VCALENDAR
