BEGIN:VCALENDAR
VERSION:2.0
PRODID:-//ChamberMaster//Event Calendar 2.0//EN
METHOD:PUBLISH
X-PUBLISHED-TTL:P3D
REFRESH-INTERVAL:P3D
CALSCALE:GREGORIAN
BEGIN:VEVENT
DTSTART:20240521T080000Z
DTEND:20240521T213000Z
X-MICROSOFT-CDO-ALLDAYEVENT:FALSE
SUMMARY:GWCC 28th Annual Military Appreciation Lunch
DESCRIPTION:The 28th Annual Greater Wasilla Chamber of Commerce Military Appreciation Lunch.\n\n\n\nCome support our Military - Past\, Present\, and Future - with the Greater Wasilla Chamber of Commerce.\n\nHeld at the beautiful Settlers Bay Golf Course\, with its spectacular views of snow-capped mountains flanked by Cook Inlet\, we couldn't ask for a better setting for this event.\n\n\n\nRegistration is now open! - this event has sold out the past few years and tickets will not be available at the door!\n\n\n\nAre you a Veteran or a present member of our Military and would like to attend? Contact Chamber Staff for sponsored ticket availability.\n\n\n\nIf you are interested in sponsorship opportunities\, please contact Chamber Staff. Sponsorship may also be added during event registration check out online.
X-ALT-DESC;FMTTYPE=text/html:<span style="font-family: Tahoma\, sans-serif\; font-size: 14.6667px\; color: rgb(64\, 63\, 66)\;"><span style="font-family: georgia\, serif\;"><span style="font-size: 13.5pt\;">The 28th Annual Greater Wasilla Chamber of Commerce Military Appreciation Lunch.<br />\n<br />\nCome support our Military - Past\, Present\, and Future - with the Greater Wasilla Chamber of Commerce.<br />\nHeld at the beautiful&nbsp\;<a href="https://www.settlersbay.com/">Settlers Bay Golf Course</a>\, with its spectacular views of snow-capped mountains flanked by Cook Inlet\, we couldn&#39\;t ask for a better setting for this event.</span></span></span><br />\n<br style="font-family: Tahoma\, sans-serif\; font-size: 14.6667px\;" />\n<span style="font-family: Tahoma\, sans-serif\; font-size: 14.6667px\; color: rgb(64\, 63\, 66)\;"><span style="font-family: georgia\, serif\;"><span style="font-size: 13.5pt\;">Registration is now open! - this event has sold out the past few years and tickets will not be available at the door!<br />\n<br />\nAre you a Veteran or a present member of our Military and would like to attend?&nbsp\;<a href="mailto:contact@wasillachamber.org?subject=MA%20Sponsored%20Ticket">Contact Chamber Staff</a>&nbsp\;for sponsored ticket availability.<br />\n<br />\nIf you are interested in sponsorship opportunities\, please contact&nbsp\;<a href="mailto:contact@wasillachamber.org?subject=MA%20Sponsorship">Chamber Staff</a>. Sponsorship may also be added during event registration check out online.&nbsp\;</span></span></span>
LOCATION:Settlers Bay Golf Course 7307 S Frontier Dr. Wasilla\, AK 99654
UID:e.3185.21959
SEQUENCE:3
DTSTAMP:20260425T105441Z
URL:http://business.wasillachamber.org/events/details/gwcc-28th-annual-military-appreciation-lunch-21959
END:VEVENT

END:VCALENDAR
