BEGIN:VCALENDAR
VERSION:2.0
PRODID:-//ChamberMaster//Event Calendar 2.0//EN
METHOD:PUBLISH
X-PUBLISHED-TTL:P3D
REFRESH-INTERVAL:P3D
CALSCALE:GREGORIAN
BEGIN:VEVENT
DTSTART:20230919T210000Z
DTEND:20230919T230000Z
X-MICROSOFT-CDO-ALLDAYEVENT:FALSE
SUMMARY:Goodwill Hiring Event
DESCRIPTION:Goodwill is hiring!\n\nStop by the Wasilla location today to learn about open positions and get your application in!
X-ALT-DESC;FMTTYPE=text/html:Goodwill is hiring!<br />\nStop by the Wasilla location today to learn about open positions and get your application in!
LOCATION:Goodwill 1660 E Financial Dr Wasilla\, AK 99654
UID:e.3185.21154
SEQUENCE:3
DTSTAMP:20260423T020508Z
URL:http://business.wasillachamber.org/events/details/goodwill-hiring-event-21154
END:VEVENT

END:VCALENDAR
