BEGIN:VCALENDAR
VERSION:2.0
PRODID:-//ChamberMaster//Event Calendar 2.0//EN
METHOD:PUBLISH
X-PUBLISHED-TTL:P3D
REFRESH-INTERVAL:P3D
CALSCALE:GREGORIAN
BEGIN:VEVENT
DTSTART:20240405T190000Z
DTEND:20240405T210000Z
X-MICROSOFT-CDO-ALLDAYEVENT:FALSE
SUMMARY:Go Blue Rally 2024 No Excuse for Child Abuse!
DESCRIPTION:Help us raise awareness and end child abuse! Join us at Newcomb Park\, Wasilla for our Go Blue Rally. Wear blue and/or bring a creative sign.\n\n\n\nFor more information visit\n\n\n\nhttps://mailchi.mp/tcpak/april-5-go-blue-rally-for-child-abuse-prevention?e=2447b450bc
X-ALT-DESC;FMTTYPE=text/html:Help us raise awareness and end child abuse! Join us at Newcomb Park\, Wasilla for our Go Blue Rally. Wear blue and/or bring a creative sign.<br />\n<br />\nFor more information visit<br />\n<br />\nhttps://mailchi.mp/tcpak/april-5-go-blue-rally-for-child-abuse-prevention?e=2447b450bc
LOCATION:Newcomb Park 891 E Parks Hwy\, Wasilla\, AK 99654
UID:e.3185.21970
SEQUENCE:3
DTSTAMP:20260421T082855Z
URL:http://business.wasillachamber.org/events/details/go-blue-rally-2024-no-excuse-for-child-abuse-21970
END:VEVENT

END:VCALENDAR
