BEGIN:VCALENDAR
VERSION:2.0
PRODID:-//ChamberMaster//Event Calendar 2.0//EN
METHOD:PUBLISH
X-PUBLISHED-TTL:P3D
REFRESH-INTERVAL:P3D
CALSCALE:GREGORIAN
BEGIN:VEVENT
DTSTART:20250806T230000Z
DTEND:20250807T000000Z
X-MICROSOFT-CDO-ALLDAYEVENT:FALSE
SUMMARY:Future Ready: AI Skills For Today's Business
DESCRIPTION:Get Future-Ready with practical AI tools built for business.\n\n\n\nJoin the Greater Wasilla Chamber of Commerce for Future-Ready: AI Skills for Today's Business   a hands-on\, small group training series designed to help you integrate artificial intelligence into your daily operations. Each 1-hour session will guide you through real-world applications of AI tools for:\n\n\n	\n	Marketing & content creation\n	\n	\n	Data analysis & business efficiency\n	\n	\n	Productivity hacks for busy professionals\n	\n\n\nWhether you're a tech novice or looking to optimize your AI strategy\, these interactive sessions are built to meet you where you are. Small class sizes ensure individualized support and personal Q&A time.\n\nHighlights:\n\n  Small group\, interactive format\n\n  Twice monthly sessions\n\n  Learn AI tools like ChatGPT\, Canva AI\, and more\n\n  Immediate\, practical takeaways\n\n  Free for members\n\nSeats are limited to ensure quality engagement   reserve early!\n\n\nSession Topics May Include:\n\n\n	\n	"Intro to AI: What It Is and Why It Matters"\n	\n	\n	"How to Use ChatGPT for Business Tasks"\n	\n	\n	"Automating Social Media with AI Tools"\n	\n	\n	"AI for Time Management & Workflows"\n	\n	\n	"Real AI Case Studies from Local Businesses"
X-ALT-DESC;FMTTYPE=text/html:<p data-end="989" data-start="597"><strong data-end="682" data-start="618">Get Future-Ready with practical AI tools built for business.</strong><br data-end="685" data-start="682" />\n<br />\nJoin the Greater Wasilla Chamber of Commerce for <em data-end="780" data-start="734">Future-Ready: AI Skills for Today&rsquo\;s Business</em> &mdash\; a hands-on\, small group training series designed to help you integrate artificial intelligence into your daily operations. Each 1-hour session will guide you through real-world applications of AI tools for:</p>\n\n<ul data-end="1141" data-start="991">\n	<li data-end="1023" data-start="991">\n	<p data-end="1023" data-start="993">Marketing &amp\; content creation</p>\n	</li>\n	<li data-end="1055" data-start="1024">\n	<p data-end="1055" data-start="1026">Data analysis &amp\; business efficiency</p>\n	</li>\n	<li data-end="1141" data-start="1096">\n	<p data-end="1141" data-start="1098">Productivity hacks for busy professionals</p>\n	</li>\n</ul>\n\n<p data-end="1347" data-start="1143">Whether you&rsquo\;re a tech novice or looking to optimize your AI strategy\, these interactive sessions are built to meet you where you are. Small class sizes ensure individualized support and personal Q&amp\;A time.</p>\n\n<p data-end="1537" data-start="1349"><strong data-end="1364" data-start="1349">Highlights:</strong><br data-end="1367" data-start="1364" />\n&#9989\; Small group\, interactive format<br data-end="1403" data-start="1400" />\n&#9989\; Twice monthly sessions<br data-end="1430" data-start="1427" />\n&#9989\; Learn AI tools like ChatGPT\, Canva AI\, and more<br data-end="1482" data-start="1479" />\n&#9989\; Immediate\, practical takeaways<br data-end="1517" data-start="1514" />\n&#9989\; Free for members</p>\n\n<p data-end="1604" data-start="1539">Seats are limited to ensure quality engagement &mdash\; reserve early!</p>\n\n<hr data-end="1609" data-start="1606" />\n<p data-end="1644" data-start="1611"><strong data-end="1642" data-start="1611">Session Topics May Include:</strong></p>\n\n<ul data-end="1869" data-start="1645">\n	<li data-end="1693" data-start="1645">\n	<p data-end="1693" data-start="1647">&ldquo\;Intro to AI: What It Is and Why It Matters&rdquo\;</p>\n	</li>\n	<li data-end="1737" data-start="1694">\n	<p data-end="1737" data-start="1696">&ldquo\;How to Use ChatGPT for Business Tasks&rdquo\;</p>\n	</li>\n	<li data-end="1781" data-start="1738">\n	<p data-end="1781" data-start="1740">&ldquo\;Automating Social Media with AI Tools&rdquo\;</p>\n	</li>\n	<li data-end="1822" data-start="1782">\n	<p data-end="1822" data-start="1784">&ldquo\;AI for Time Management &amp\; Workflows&rdquo\;</p>\n	</li>\n	<li data-end="1869" data-start="1823">\n	<p data-end="1869" data-start="1825">&ldquo\;Real AI Case Studies from Local Businesses&rdquo\;</p>\n	</li>\n</ul>\n
LOCATION:Classes will be held at the Greater Wasilla Chamber of Commerce 1155 E Depot Rd Wasilla\, AK 99654
UID:e.3185.23255
SEQUENCE:3
DTSTAMP:20260422T155635Z
URL:http://business.wasillachamber.org/events/details/future-ready-ai-skills-for-today-s-business-08-06-2025-23255
END:VEVENT

END:VCALENDAR
