BEGIN:VCALENDAR
VERSION:2.0
PRODID:-//ChamberMaster//Event Calendar 2.0//EN
METHOD:PUBLISH
X-PUBLISHED-TTL:P3D
REFRESH-INTERVAL:P3D
CALSCALE:GREGORIAN
BEGIN:VEVENT
DTSTART:20230915T140000Z
DTEND:20230916T020000Z
X-MICROSOFT-CDO-ALLDAYEVENT:FALSE
SUMMARY:Frontline Mission Radiothon
DESCRIPTION:Let's BRING HOPE to the less fortunate of the Mat-Su Valley! On Friday\, September 15th from 6AM-6PM\, tune in to the Capstone Clinic Bringing Hope Radiothon event on Classic Country 100.9 - KAYO!\n\nHear amazing stories of lives impacted with your support!\n\nProvide a gift through a meal and care for just $4.66.\n\nYou are making the difference in OUR communities in the Valley!\n\nYour donation doubles with the help of our local sponsors! Call (907)-376-GIVE on September 15th!! Or Give online today at frontlinemission.org
X-ALT-DESC;FMTTYPE=text/html:<span style="color: rgb(5\, 5\, 5)\; font-family: &quot\;Segoe UI Historic&quot\;\, &quot\;Segoe UI&quot\;\, Helvetica\, Arial\, sans-serif\; font-size: 15px\; white-space-collapse: preserve\;">Let&#39\;s BRING HOPE to the less fortunate of the </span><span style="font-family: &quot\;Segoe UI Historic&quot\;\, &quot\;Segoe UI&quot\;\, Helvetica\, Arial\, sans-serif\; color: rgb(5\, 5\, 5)\; font-size: 15px\; white-space-collapse: preserve\;"><span class="xt0psk2" style="display: inline\; font-family: inherit\;">Mat-Su Valley</span></span><span style="color: rgb(5\, 5\, 5)\; font-family: &quot\;Segoe UI Historic&quot\;\, &quot\;Segoe UI&quot\;\, Helvetica\, Arial\, sans-serif\; font-size: 15px\; white-space-collapse: preserve\;">! On Friday\, September 15th from 6AM-6PM\, tune in to the </span><span style="font-family: &quot\;Segoe UI Historic&quot\;\, &quot\;Segoe UI&quot\;\, Helvetica\, Arial\, sans-serif\; color: rgb(5\, 5\, 5)\; font-size: 15px\; white-space-collapse: preserve\;"><span class="xt0psk2" style="display: inline\; font-family: inherit\;">Capstone Clinic</span></span><span style="color: rgb(5\, 5\, 5)\; font-family: &quot\;Segoe UI Historic&quot\;\, &quot\;Segoe UI&quot\;\, Helvetica\, Arial\, sans-serif\; font-size: 15px\; white-space-collapse: preserve\;"> Bringing Hope Radiothon event on </span><span style="font-family: &quot\;Segoe UI Historic&quot\;\, &quot\;Segoe UI&quot\;\, Helvetica\, Arial\, sans-serif\; color: rgb(5\, 5\, 5)\; font-size: 15px\; white-space-collapse: preserve\;"><span class="xt0psk2" style="display: inline\; font-family: inherit\;">Classic Country 100.9 - KAYO</span></span><span style="color: rgb(5\, 5\, 5)\; font-family: &quot\;Segoe UI Historic&quot\;\, &quot\;Segoe UI&quot\;\, Helvetica\, Arial\, sans-serif\; font-size: 15px\; white-space-collapse: preserve\;">!<br />\nHear amazing stories of lives impacted with your support!<br />\nProvide a gift through a meal and care for just $4.66.<br />\nYou are making the difference in OUR communities in the Valley!<br />\nYour donation doubles with the help of our local sponsors! Call (907)-376-GIVE on September 15th!! Or Give </span><span style="color: rgb(5\, 5\, 5)\; font-family: &quot\;Segoe UI Historic&quot\;\, &quot\;Segoe UI&quot\;\, Helvetica\, Arial\, sans-serif\; font-size: 15px\; white-space-collapse: preserve\;">online today at </span><span style="font-family: &quot\;Segoe UI Historic&quot\;\, &quot\;Segoe UI&quot\;\, Helvetica\, Arial\, sans-serif\; color: rgb(5\, 5\, 5)\; font-size: 15px\; white-space-collapse: preserve\;"><a class="x1i10hfl xjbqb8w x6umtig x1b1mbwd xaqea5y xav7gou x9f619 x1ypdohk xt0psk2 xe8uvvx xdj266r x11i5rnm xat24cr x1mh8g0r xexx8yu x4uap5 x18d9i69 xkhd6sd x16tdsg8 x1hl2dhg xggy1nq x1a2a7pz xt0b8zv x1fey0fg" href="http://frontlinemission.org/?fbclid=IwAR0hH3UsRQa_e-a-CTUh40EfDFCT5-I3evB1dn5N2eUCwY89yidYfoavfvE" rel="nofollow noreferrer" role="link" style="color: var(--blue-link)\; cursor: pointer\; text-decoration-line: none\; border-width: 0px\; border-style: initial\; border-color: initial\; outline: none\; list-style: none\; margin: 0px\; text-align: inherit\; padding: 0px\; -webkit-tap-highlight-color: transparent\; box-sizing: border-box\; touch-action: manipulation\; background-color: transparent\; display: inline\; font-family: inherit\;" tabindex="0" target="_blank">frontlinemission.org</a></span>
LOCATION:Streaming Live on Classic Country 100.9FM and Facebook Live on Frontline Mission
UID:e.3185.20954
SEQUENCE:3
DTSTAMP:20260422T153055Z
URL:http://business.wasillachamber.org/events/details/frontline-mission-radiothon-20954
END:VEVENT

END:VCALENDAR
