BEGIN:VCALENDAR
VERSION:2.0
PRODID:-//ChamberMaster//Event Calendar 2.0//EN
METHOD:PUBLISH
X-PUBLISHED-TTL:P3D
REFRESH-INTERVAL:P3D
CALSCALE:GREGORIAN
BEGIN:VEVENT
DTSTART:20230503T173000Z
DTEND:20230504T023000Z
X-MICROSOFT-CDO-ALLDAYEVENT:FALSE
SUMMARY:Free Virtual Summit for Small Businesses
DESCRIPTION:In honor of #SmallBusinessWeek\, the U.S. Small Business Administration is hosting a free virtual summit for small businesses May 2-3. More information about National Small Business Week and the virtual summit can be found on their website: https://www.sba.gov/national-small-business-week
X-ALT-DESC;FMTTYPE=text/html:<span style="color: rgb(5\, 5\, 5)\; font-family: &quot\;Segoe UI Historic&quot\;\, &quot\;Segoe UI&quot\;\, Helvetica\, Arial\, sans-serif\; font-size: 15px\; white-space: pre-wrap\;">In honor of </span><span style="font-family: &quot\;Segoe UI Historic&quot\;\, &quot\;Segoe UI&quot\;\, Helvetica\, Arial\, sans-serif\; color: rgb(5\, 5\, 5)\; font-size: 15px\; white-space: pre-wrap\;"><a class="x1i10hfl xjbqb8w x6umtig x1b1mbwd xaqea5y xav7gou x9f619 x1ypdohk xt0psk2 xe8uvvx xdj266r x11i5rnm xat24cr x1mh8g0r xexx8yu x4uap5 x18d9i69 xkhd6sd x16tdsg8 x1hl2dhg xggy1nq x1a2a7pz xt0b8zv x1qq9wsj xo1l8bm" href="https://www.facebook.com/hashtag/smallbusinessweek?__eep__=6&amp\;__cft__[0]=AZUz6OOPgPKJtfbapfWiPgs2uKX2hkvF8dA2exXsTyvbIHhlBK0wpYyydgdYUBnTkxXbgct39SEDmjzk8CVfGlW70HIxeZOS4DGnbSN5OBI9pl3C4VHnyXNVPcMv1LcW0UaQFh18UfESkbdenmNJUysMJZ2R8tnZYmj-C9Rob8rplr5M2eZbZ1H2qzGwVpdC_-k&amp\;__tn__=*NK-R" role="link" style="color: var(--accent)\; cursor: pointer\; text-decoration-line: none\; border-width: 0px\; border-style: initial\; border-color: initial\; outline: none\; list-style: none\; margin: 0px\; text-align: inherit\; padding: 0px\; -webkit-tap-highlight-color: transparent\; box-sizing: border-box\; touch-action: manipulation\; background-color: transparent\; display: inline\; font-family: inherit\;" tabindex="0">#SmallBusinessWeek</a></span><span style="color: rgb(5\, 5\, 5)\; font-family: &quot\;Segoe UI Historic&quot\;\, &quot\;Segoe UI&quot\;\, Helvetica\, Arial\, sans-serif\; font-size: 15px\; white-space: pre-wrap\;">\, the </span><span style="font-family: &quot\;Segoe UI Historic&quot\;\, &quot\;Segoe UI&quot\;\, Helvetica\, Arial\, sans-serif\; color: rgb(5\, 5\, 5)\; font-size: 15px\; white-space: pre-wrap\;"><a class="x1i10hfl xjbqb8w x6umtig x1b1mbwd xaqea5y xav7gou x9f619 x1ypdohk xt0psk2 xe8uvvx xdj266r x11i5rnm xat24cr x1mh8g0r xexx8yu x4uap5 x18d9i69 xkhd6sd x16tdsg8 x1hl2dhg xggy1nq x1a2a7pz xt0b8zv x1qq9wsj xo1l8bm" href="https://www.facebook.com/SBAgov?__cft__[0]=AZUz6OOPgPKJtfbapfWiPgs2uKX2hkvF8dA2exXsTyvbIHhlBK0wpYyydgdYUBnTkxXbgct39SEDmjzk8CVfGlW70HIxeZOS4DGnbSN5OBI9pl3C4VHnyXNVPcMv1LcW0UaQFh18UfESkbdenmNJUysMJZ2R8tnZYmj-C9Rob8rplr5M2eZbZ1H2qzGwVpdC_-k&amp\;__tn__=-]K-R" role="link" style="color: var(--accent)\; cursor: pointer\; text-decoration-line: none\; border-width: 0px\; border-style: initial\; border-color: initial\; outline: none\; list-style: none\; margin: 0px\; text-align: inherit\; padding: 0px\; -webkit-tap-highlight-color: transparent\; box-sizing: border-box\; touch-action: manipulation\; background-color: transparent\; display: inline\; font-family: inherit\;" tabindex="0"><span class="xt0psk2" style="display: inline\; font-family: inherit\;">U.S. Small Business Administration</span></a></span><span style="color: rgb(5\, 5\, 5)\; font-family: &quot\;Segoe UI Historic&quot\;\, &quot\;Segoe UI&quot\;\, Helvetica\, Arial\, sans-serif\; font-size: 15px\; white-space: pre-wrap\;"> is hosting a free virtual summit for small businesses May 2-3. More information about National Small Business Week and the virtual summit can be found on their website: </span><span style="font-family: &quot\;Segoe UI Historic&quot\;\, &quot\;Segoe UI&quot\;\, Helvetica\, Arial\, sans-serif\; color: rgb(5\, 5\, 5)\; font-size: 15px\; white-space: pre-wrap\;"><a class="x1i10hfl xjbqb8w x6umtig x1b1mbwd xaqea5y xav7gou x9f619 x1ypdohk xt0psk2 xe8uvvx xdj266r x11i5rnm xat24cr x1mh8g0r xexx8yu x4uap5 x18d9i69 xkhd6sd x16tdsg8 x1hl2dhg xggy1nq x1a2a7pz xt0b8zv x1fey0fg" href="https://l.facebook.com/l.php?u=https%3A%2F%2Fwww.sba.gov%2Fnational-small-business-week%3Ffbclid%3DIwAR3IImOJIK9JfBt5l_Qrh7IiKdTGxz7b6ikdxZKB1BIB2AoMIf0SRxt1t58&amp\;h=AT1pYcxostdhSVBEdDq2urJFmzvpCWIIvkhbTo6U0T6YcfcZfvxvejp7wphHB0w3WJHuqgjtbQYD4a3add2hJ9wzL0P7R07olMERK_dDNr2iWZGkFqo0jqDtS4eRMRa5bw&amp\;__tn__=-UK-R&amp\;c[0]=AT1ZbSXNRFeA3Y4SqkG2RShI3OkrZ0tY60KT1OFXUTmofd9zrZd5mu3X6IDOAAfpEKEYM6629oc--Mg-h2m6qCErT4zxlh5RG2l9xY2xvMZJIHW4GENfV4_WekFJzUK3MX13tpqQ5xJv4F2sgRl8p3Tjhq-iopSJrt4laknl-9rc2f3YcC4jL7QckkxM_Aqs370jH3wbAOtWTA" rel="nofollow noopener" role="link" style="color: var(--blue-link)\; cursor: pointer\; text-decoration-line: none\; border-width: 0px\; border-style: initial\; border-color: initial\; outline: none\; list-style: none\; margin: 0px\; text-align: inherit\; padding: 0px\; -webkit-tap-highlight-color: transparent\; box-sizing: border-box\; touch-action: manipulation\; background-color: transparent\; display: inline\; font-family: inherit\;" tabindex="0" target="_blank">https://www.sba.gov/national-small-business-week</a></span>
LOCATION:Online Virtually
UID:e.3185.20200
SEQUENCE:3
DTSTAMP:20260424T003453Z
URL:http://business.wasillachamber.org/events/details/free-virtual-summit-for-small-businesses-20200
END:VEVENT

END:VCALENDAR
