BEGIN:VCALENDAR
VERSION:2.0
PRODID:-//ChamberMaster//Event Calendar 2.0//EN
METHOD:PUBLISH
X-PUBLISHED-TTL:P3D
REFRESH-INTERVAL:P3D
CALSCALE:GREGORIAN
BEGIN:VEVENT
DTSTART:20251017T193000Z
DTEND:20251017T213000Z
X-MICROSOFT-CDO-ALLDAYEVENT:FALSE
SUMMARY:Financial Reality Fair
DESCRIPTION:The Get REAL Financial Reality Fair\, sponsored by Matanuska Valley Federal Credit Union\, is a project designed to teach financial literacy to high school students...Sound boring? No way! Did we mention it's like playing a giant game of monopoly?\n\n\n\nEach student is assigned a "life" with a predetermined income (this is based loosely on what you want to do when you graduate from college)\; then the hard part begins... how do you balance your budget? What kind of car can you afford? What kind of house can you buy? Do you have any money left over at the end of the month for entertainment?\n\n\n\nJust when you think you've got it all figured out\, you have to SPIN THE WHEEL OF REALITY\, land on "inherit $500" and celebrate with your friends... OR land on "Unexpected vehicle repairs - $300" and try to figure out how to shuffle your money around.\n\n\n\nEnter our drawing\, and you may walk away with an Amazon Gift Card! Must be present to win.\n\n\n\nThis activity is FREE and open to all homeschoolers!
X-ALT-DESC;FMTTYPE=text/html:<div class="x14z9mp xat24cr x1lziwak x1vvkbs xtlvy1s x126k92a" style="overflow-wrap: break-word\; white-space-collapse: preserve\; margin-top: 0.5em\; margin-inline: 0px\; margin-bottom: 0px\; font-family: &quot\;Segoe UI Historic&quot\;\, &quot\;Segoe UI&quot\;\, Helvetica\, Arial\, sans-serif\; color: rgb(5\, 5\, 5)\; font-size: 15px\;">\n<div dir="auto" style="font-family: inherit\;">The Get REAL Financial Reality Fair\, sponsored by Matanuska Valley Federal Credit Union\, is a project designed to teach financial literacy to high school students...Sound boring? No way! Did we mention it&#39\;s like playing a giant game of monopoly?</div>\n</div>\n\n<div class="x14z9mp xat24cr x1lziwak x1vvkbs xtlvy1s x126k92a" style="overflow-wrap: break-word\; white-space-collapse: preserve\; margin-top: 0.5em\; margin-inline: 0px\; margin-bottom: 0px\; font-family: &quot\;Segoe UI Historic&quot\;\, &quot\;Segoe UI&quot\;\, Helvetica\, Arial\, sans-serif\; color: rgb(5\, 5\, 5)\; font-size: 15px\;">\n<div dir="auto" style="font-family: inherit\;">Each student is assigned a &quot\;life&quot\; with a predetermined income (this is based loosely on what you want to do when you graduate from college)\; then the hard part begins... how do you balance your budget? What kind of car can you afford? What kind of house can you buy? Do you have any money left over at the end of the month for entertainment?</div>\n</div>\n\n<div class="x14z9mp xat24cr x1lziwak x1vvkbs xtlvy1s x126k92a" style="overflow-wrap: break-word\; white-space-collapse: preserve\; margin-top: 0.5em\; margin-inline: 0px\; margin-bottom: 0px\; font-family: &quot\;Segoe UI Historic&quot\;\, &quot\;Segoe UI&quot\;\, Helvetica\, Arial\, sans-serif\; color: rgb(5\, 5\, 5)\; font-size: 15px\;">\n<div dir="auto" style="font-family: inherit\;">Just when you think you&#39\;ve got it all figured out\, you have to SPIN THE WHEEL OF REALITY\, land on &quot\;inherit $500&quot\; and celebrate with your friends... OR land on &quot\;Unexpected vehicle repairs - $300&quot\; and try to figure out how to shuffle your money around.</div>\n</div>\n\n<div class="x14z9mp xat24cr x1lziwak x1vvkbs xtlvy1s x126k92a" style="overflow-wrap: break-word\; white-space-collapse: preserve\; margin-top: 0.5em\; margin-inline: 0px\; margin-bottom: 0px\; font-family: &quot\;Segoe UI Historic&quot\;\, &quot\;Segoe UI&quot\;\, Helvetica\, Arial\, sans-serif\; color: rgb(5\, 5\, 5)\; font-size: 15px\;">\n<div dir="auto" style="font-family: inherit\;">Enter our drawing\, and you may walk away with an Amazon Gift Card! Must be present to win.</div>\n</div>\n\n<div class="x14z9mp xat24cr x1lziwak x1vvkbs xtlvy1s x126k92a" style="overflow-wrap: break-word\; white-space-collapse: preserve\; margin-top: 0.5em\; margin-inline: 0px\; margin-bottom: 0px\; font-family: &quot\;Segoe UI Historic&quot\;\, &quot\;Segoe UI&quot\;\, Helvetica\, Arial\, sans-serif\; color: rgb(5\, 5\, 5)\; font-size: 15px\;">\n<div dir="auto" style="font-family: inherit\;">This activity is FREE and open to all homeschoolers!</div>\n</div>\n
LOCATION:Mat-Su Central School\, 2055 N. Stringfield Rd. Palmer
UID:e.3185.23514
SEQUENCE:3
DTSTAMP:20260424T084101Z
URL:http://business.wasillachamber.org/events/details/financial-reality-fair-23514
END:VEVENT

END:VCALENDAR
