BEGIN:VCALENDAR
VERSION:2.0
PRODID:-//ChamberMaster//Event Calendar 2.0//EN
METHOD:PUBLISH
X-PUBLISHED-TTL:P3D
REFRESH-INTERVAL:P3D
CALSCALE:GREGORIAN
BEGIN:VEVENT
DTSTART:20201220T190000Z
DTEND:20201221T030000Z
X-MICROSOFT-CDO-ALLDAYEVENT:FALSE
SUMMARY:Everett's Craft Fair
DESCRIPTION:Everett's is proud to host so many great local artisans for our winter craft fair.\n\nDo your gift shopping and support your community all with the atmosphere and food Everett's has to offer.
X-ALT-DESC;FMTTYPE=text/html:Everett&#39\;s is proud to host so many great local artisans for our winter craft fair.<br />\nDo your gift shopping and support your community all with the atmosphere and food Everett&#39\;s has to offer.
LOCATION:Everett's 1850 E. Bogard Rd. Wasilla\, AK 99654
UID:e.3185.9910
SEQUENCE:3
DTSTAMP:20260425T173208Z
URL:http://business.wasillachamber.org/events/details/everett-s-craft-fair-9910
END:VEVENT

END:VCALENDAR
