BEGIN:VCALENDAR
VERSION:2.0
PRODID:-//ChamberMaster//Event Calendar 2.0//EN
METHOD:PUBLISH
X-PUBLISHED-TTL:P3D
REFRESH-INTERVAL:P3D
CALSCALE:GREGORIAN
BEGIN:VEVENT
DTSTART:20201220T010000Z
DTEND:20201220T030000Z
X-MICROSOFT-CDO-ALLDAYEVENT:FALSE
SUMMARY:Everett's Christmas Sing-A-Long
DESCRIPTION:Join the Everett's family as we bring in the holiday with caroling.
X-ALT-DESC;FMTTYPE=text/html:<span style="color: rgb(5\, 5\, 5)\; font-family: &quot\;Segoe UI Historic&quot\;\, &quot\;Segoe UI&quot\;\, Helvetica\, Arial\, sans-serif\; font-size: 15px\; white-space: pre-wrap\;">Join the Everett&#39\;s family as we bring in the holiday with caroling. </span>
LOCATION:Everett's Mat-Su Resort 1850 E. Bogard Rd. Wasilla\, AK 99654
UID:e.3185.9913
SEQUENCE:3
DTSTAMP:20260425T010313Z
URL:http://business.wasillachamber.org/events/details/everett-s-christmas-sing-a-long-9913
END:VEVENT

END:VCALENDAR
