BEGIN:VCALENDAR
VERSION:2.0
PRODID:-//ChamberMaster//Event Calendar 2.0//EN
METHOD:PUBLISH
X-PUBLISHED-TTL:P3D
REFRESH-INTERVAL:P3D
CALSCALE:GREGORIAN
BEGIN:VEVENT
DTSTART:20210426T220000Z
DTEND:20210426T230000Z
X-MICROSOFT-CDO-ALLDAYEVENT:FALSE
SUMMARY:Employment After Incarceration with Alaska Job Center
DESCRIPTION:Learn about bonding and tax incentives you can discuss with potential employers and gain skill in talking about your background in ways that highlight your strengths.
X-ALT-DESC;FMTTYPE=text/html:Learn about bonding and tax incentives you can discuss with potential employers and gain skill in talking about your background in ways that highlight your strengths.&nbsp\;
LOCATION:Online via ZOOM Meetings
UID:e.3185.10958
SEQUENCE:3
DTSTAMP:20260422T001503Z
URL:http://business.wasillachamber.org/events/details/employment-after-incarceration-with-alaska-job-center-04-26-2021-10958
END:VEVENT

END:VCALENDAR
