BEGIN:VCALENDAR
VERSION:2.0
PRODID:-//ChamberMaster//Event Calendar 2.0//EN
METHOD:PUBLISH
X-PUBLISHED-TTL:P3D
REFRESH-INTERVAL:P3D
CALSCALE:GREGORIAN
BEGIN:VEVENT
DTSTART;VALUE=DATE:20220415
DTEND;VALUE=DATE:20220416
TRANSP:TRANSPARENT
X-MICROSOFT-CDO-ALLDAYEVENT:TRUE
SUMMARY:Deadline to Submit Nominations for United Way of Mat-Su 2022 Awards
DESCRIPTION:Nominations for the 2022 Volunteer of the Year and Dorothy A. Jones Lifetime Achievement Awards are now OPEN!\n\n\n\nThe United Way of Mat-Su Volunteer of the Year Award is intended to recognize the outstanding work of a volunteer during the last year. To be eligible\, nominees must be a Mat-Su Borough resident and must have served as a volunteer in education\, financial stability\, or health within the Borough. Nominees are judged by a distinguished panel of community leaders\, according to the impact of their contribution on the community\, leadership and initiative\, and service above and beyond.\n\nThe Dorothy A. Jones Lifetime Achievement Award is intended to honor individuals for exceptional volunteer service in health & human services in the Mat-Su Borough over the course of their lifetime. To be eligible\, nominees must be a Mat-Su Borough resident and must have served as a volunteer in education\, financial stability\, or health within the Borough. Nominees are judged by a distinguished panel of community leaders\, according to length & breadth of service above and beyond their professional career\, leadership and initiative\, as well as how the nominee's volunteerism has impacted the quality of life for Mat-Su residents.\n\n\n\nNominations must be submitted by April 15 to be considered.\n\n\n\nVisit our Volunteers page to submit your nominations!\n\n\n\nunitedwaymatsu.org/volunteer
X-ALT-DESC;FMTTYPE=text/html:<div class="kvgmc6g5 cxmmr5t8 oygrvhab hcukyx3x c1et5uql ii04i59q" style="overflow-wrap: break-word\; margin: 0px\; white-space: pre-wrap\; font-family: &quot\;Segoe UI Historic&quot\;\, &quot\;Segoe UI&quot\;\, Helvetica\, Arial\, sans-serif\; color: rgb(5\, 5\, 5)\; font-size: 15px\;">\n<div dir="auto" style="font-family: inherit\;">Nominations for the 2022 Volunteer of the Year and Dorothy A. Jones Lifetime Achievement Awards are now OPEN!</div>\n</div>\n\n<div class="cxmmr5t8 oygrvhab hcukyx3x c1et5uql o9v6fnle ii04i59q" style="overflow-wrap: break-word\; margin: 0.5em 0px 0px\; white-space: pre-wrap\; font-family: &quot\;Segoe UI Historic&quot\;\, &quot\;Segoe UI&quot\;\, Helvetica\, Arial\, sans-serif\; color: rgb(5\, 5\, 5)\; font-size: 15px\;">\n<div dir="auto" style="font-family: inherit\;">The United Way of Mat-Su Volunteer of the Year Award is intended to recognize the outstanding work of a volunteer during the last year. To be eligible\, nominees must be a Mat-Su Borough resident and must have served as a volunteer in education\, financial stability\, or health within the Borough. Nominees are judged by a distinguished panel of community leaders\, according to the impact of their contribution on the community\, leadership and initiative\, and service above and beyond.</div>\n\n<div dir="auto" style="font-family: inherit\;">The Dorothy A. Jones Lifetime Achievement Award is intended to honor individuals for exceptional volunteer service in health &amp\; human services in the Mat-Su Borough over the course of their lifetime. To be eligible\, nominees must be a Mat-Su Borough resident and must have served as a volunteer in education\, financial stability\, or health within the Borough. Nominees are judged by a distinguished panel of community leaders\, according to length &amp\; breadth of service above and beyond their professional career\, leadership and initiative\, as well as how the nominee&rsquo\;s volunteerism has impacted the quality of life for Mat-Su residents.</div>\n</div>\n\n<div class="cxmmr5t8 oygrvhab hcukyx3x c1et5uql o9v6fnle ii04i59q" style="overflow-wrap: break-word\; margin: 0.5em 0px 0px\; white-space: pre-wrap\; font-family: &quot\;Segoe UI Historic&quot\;\, &quot\;Segoe UI&quot\;\, Helvetica\, Arial\, sans-serif\; color: rgb(5\, 5\, 5)\; font-size: 15px\;">\n<div dir="auto" style="font-family: inherit\;">Nominations must be submitted by April 15 to be considered.</div>\n</div>\n\n<div class="cxmmr5t8 oygrvhab hcukyx3x c1et5uql o9v6fnle ii04i59q" style="overflow-wrap: break-word\; margin: 0.5em 0px 0px\; white-space: pre-wrap\; font-family: &quot\;Segoe UI Historic&quot\;\, &quot\;Segoe UI&quot\;\, Helvetica\, Arial\, sans-serif\; color: rgb(5\, 5\, 5)\; font-size: 15px\;">\n<div dir="auto" style="font-family: inherit\;">Visit our Volunteers page to submit your nominations!</div>\n</div>\n\n<div class="cxmmr5t8 oygrvhab hcukyx3x c1et5uql o9v6fnle ii04i59q" style="overflow-wrap: break-word\; margin: 0.5em 0px 0px\; white-space: pre-wrap\; font-family: &quot\;Segoe UI Historic&quot\;\, &quot\;Segoe UI&quot\;\, Helvetica\, Arial\, sans-serif\; color: rgb(5\, 5\, 5)\; font-size: 15px\;">\n<div dir="auto" style="font-family: inherit\;"><span style="font-family: inherit\;"><a class="oajrlxb2 g5ia77u1 qu0x051f esr5mh6w e9989ue4 r7d6kgcz rq0escxv nhd2j8a9 nc684nl6 p7hjln8o kvgmc6g5 cxmmr5t8 oygrvhab hcukyx3x jb3vyjys rz4wbd8a qt6c0cv9 a8nywdso i1ao9s8h esuyzwwr f1sip0of lzcic4wl gpro0wi8 py34i1dx" href="https://l.facebook.com/l.php?u=http%3A%2F%2Funitedwaymatsu.org%2Fvolunteer%3Ffbclid%3DIwAR3wpoRpqu1qQheKMqhPXNCfCVWaA90UBZ2Bp0boakGyYmcI6AulEYG180M&amp\;h=AT3qgSkb14bDAEHgW7YW6dVrB0AS1Leed4LcGIX-9iHoDPV8VDGB9NKdWgEnDRut7SWwoHK8zT_Y-37ncuv4gcp5P3w_5iz3-9uLCQsFAES-GfjL3xY-158yyueCb_oB_A&amp\;__tn__=-UK-R&amp\;c[0]=AT1O_SG-r-gE-wiatXhMJaadfBoyaPLAYVEC-Tyjp--_dgfqgPf67Way7CS3POYyyJpkc1E8XDaz13xJXp1iSmgH2_VO2Ot_iMd-q6SVvuOzvFXby5qKHGHPPQBZDGPc3HPIRcZFLaengxtoEpuZNGJ52Gw9lnT-S16KaDOQrxBew_8" rel="nofollow noopener" role="link" style="color: var(--blue-link)\; cursor: pointer\; text-decoration-line: none\; outline: none\; list-style: none\; border-width: 0px\; border-style: initial\; border-color: initial\; padding: 0px\; margin: 0px\; touch-action: manipulation\; background-color: transparent\; text-align: inherit\; display: inline\; -webkit-tap-highlight-color: transparent\; box-sizing: border-box\; font-family: inherit\;" tabindex="0" target="_blank">unitedwaymatsu.org/volunteer</a></span></div>\n</div>\n
LOCATION:
UID:e.3185.16160
SEQUENCE:3
DTSTAMP:20260419T123225Z
URL:http://business.wasillachamber.org/events/details/deadline-to-submit-nominations-for-united-way-of-mat-su-2022-awards-16160
END:VEVENT

END:VCALENDAR
