BEGIN:VCALENDAR
VERSION:2.0
PRODID:-//ChamberMaster//Event Calendar 2.0//EN
METHOD:PUBLISH
X-PUBLISHED-TTL:P3D
REFRESH-INTERVAL:P3D
CALSCALE:GREGORIAN
BEGIN:VEVENT
DTSTART:20240427T180000Z
DTEND:20240427T220000Z
X-MICROSOFT-CDO-ALLDAYEVENT:FALSE
SUMMARY:DEA National Drug Take Back Day
DESCRIPTION:Safely Dispose of Your Unused/Expired Medications.\n\nBy turning in your unused medications\, you can reduce prescription drug abuse\, reduce accidental poisoning\, protect our water and our environment.
X-ALT-DESC;FMTTYPE=text/html:Safely Dispose of Your Unused/Expired Medications.<br />\nBy turning in your unused medications\, you can reduce prescription drug abuse\, reduce accidental poisoning\, protect our water and our environment.
LOCATION:Palmer Fred Meyer and Wasilla Fred Meyer
UID:e.3185.21973
SEQUENCE:3
DTSTAMP:20260421T082823Z
URL:http://business.wasillachamber.org/events/details/dea-national-drug-take-back-day-21973
END:VEVENT

END:VCALENDAR
