BEGIN:VCALENDAR
VERSION:2.0
PRODID:-//ChamberMaster//Event Calendar 2.0//EN
METHOD:PUBLISH
X-PUBLISHED-TTL:P3D
REFRESH-INTERVAL:P3D
CALSCALE:GREGORIAN
BEGIN:VEVENT
DTSTART;VALUE=DATE:20211115
DTEND;VALUE=DATE:20211116
TRANSP:TRANSPARENT
X-MICROSOFT-CDO-ALLDAYEVENT:TRUE
SUMMARY:CRW Engineering Group Scholarship Application Deadline
DESCRIPTION:CRW offers an annual Engineering & Geomatics Scholarship in honor of CRW's founder\, Willem Van Hemert and his ongoing contributions to CRW and the engineering community. It began in 2019 and typically includes two $2\,500 scholarships.\n\nThe 2022 scholarship application is available for download here. Please return your completed application to scholarship@crweng.com by the application deadline: November 15\, 2021.\n\nRequirements for Application: \n\n\n	Current Alaskan Resident.\n	Full-time\, undergraduate or graduate student\, with at least junior standing for current Fall semester\, and enrolled in an accredited civil/mechanical/electrical engineering or geomatics program.\n	Cumulative G.P.A. of 2.5 or greater.
X-ALT-DESC;FMTTYPE=text/html:<p style="box-sizing: border-box\; margin-top: 0px\; margin-bottom: 1rem\; color: rgb(53\, 54\, 60)\; font-family: Rubik\, sans-serif\; font-size: 16px\; background-color: rgb(242\, 242\, 242)\;">CRW offers an annual Engineering &amp\; Geomatics Scholarship in honor of CRW&rsquo\;s founder\, Willem Van Hemert and his ongoing contributions to CRW and the engineering community. It began in 2019 and typically includes two $2\,500 scholarships.</p>\n\n<p style="box-sizing: border-box\; margin-top: 0px\; margin-bottom: 1rem\; color: rgb(53\, 54\, 60)\; font-family: Rubik\, sans-serif\; font-size: 16px\; background-color: rgb(242\, 242\, 242)\;"><em style="box-sizing: border-box\;"><a href="https://www.crweng.com/wp-content/uploads/2021/09/CRW_ScholarApp-Form-2022-Final.pdf" rel="noreferrer noopener" style="box-sizing: border-box\; color: rgb(239\, 26\, 25)\; text-decoration-line: none\; background-color: transparent\;" target="_blank">The 2022 scholarship application is available for download here</a>.</em>&nbsp\;Please return your completed application to&nbsp\;<a href="mailto:scholarship@crweng.com" style="box-sizing: border-box\; color: rgb(239\, 26\, 25)\; text-decoration-line: none\; background-color: transparent\;">scholarship@crweng.com</a>&nbsp\;by the application deadline:&nbsp\;<em style="box-sizing: border-box\;">November 15\, 2021</em>.</p>\n\n<p style="box-sizing: border-box\; margin-top: 0px\; margin-bottom: 1rem\; color: rgb(53\, 54\, 60)\; font-family: Rubik\, sans-serif\; font-size: 16px\; background-color: rgb(242\, 242\, 242)\;">Requirements for Application:&nbsp\;</p>\n\n<ul style="box-sizing: border-box\; margin-top: 0px\; margin-bottom: 1rem\; color: rgb(53\, 54\, 60)\; font-family: Rubik\, sans-serif\; font-size: 16px\; background-color: rgb(242\, 242\, 242)\;">\n	<li style="box-sizing: border-box\;">Current Alaskan Resident.</li>\n	<li style="box-sizing: border-box\;">Full-time\, undergraduate or graduate student\, with at least junior standing for current Fall semester\, and enrolled in an accredited civil/mechanical/electrical engineering or geomatics program.</li>\n	<li style="box-sizing: border-box\;">Cumulative G.P.A. of 2.5 or greater.</li>\n</ul>\n
LOCATION:
UID:e.3185.14980
SEQUENCE:3
DTSTAMP:20260420T094613Z
URL:http://business.wasillachamber.org/events/details/crw-engineering-group-scholarship-application-deadline-14980
END:VEVENT

END:VCALENDAR
