BEGIN:VCALENDAR
VERSION:2.0
PRODID:-//ChamberMaster//Event Calendar 2.0//EN
METHOD:PUBLISH
X-PUBLISHED-TTL:P3D
REFRESH-INTERVAL:P3D
CALSCALE:GREGORIAN
BEGIN:VEVENT
DTSTART:20230630T020000Z
DTEND:20230630T040000Z
X-MICROSOFT-CDO-ALLDAYEVENT:FALSE
SUMMARY:Crafting a New Historic Preservation Plan for the MSB Public Open House
DESCRIPTION:Mat-Su Borough staff have set up a series of public meetings around the Borough in late June.\n\nTo goal is to meet with members of the general public and talk through the purpose and content of a historical preservation plan\, and to have some fun looking at old photos and sharing stories.
X-ALT-DESC;FMTTYPE=text/html:Mat-Su Borough staff have set up a series of public meetings around the Borough in late June.<br />\nTo goal is to meet with members of the general public and talk through the purpose and content of a historical preservation plan\, and to have some fun looking at old photos and sharing stories.
LOCATION:Several Public Open Houses: June 29th MSB Assembly Chambers DSJ Borough Building 350 E. Dahlia Ave Palmer\, AK 99645
UID:e.3185.20357
SEQUENCE:3
DTSTAMP:20260425T213038Z
URL:http://business.wasillachamber.org/events/details/crafting-a-new-historic-preservation-plan-for-the-msb-public-open-house-20357
END:VEVENT

END:VCALENDAR
