BEGIN:VCALENDAR
VERSION:2.0
PRODID:-//ChamberMaster//Event Calendar 2.0//EN
METHOD:PUBLISH
X-PUBLISHED-TTL:P3D
REFRESH-INTERVAL:P3D
CALSCALE:GREGORIAN
BEGIN:VEVENT
DTSTART:20220416T190000Z
DTEND:20220417T020000Z
X-MICROSOFT-CDO-ALLDAYEVENT:FALSE
SUMMARY:Comic Art Sale Fundraiser at Aegis Comics of Alaska
DESCRIPTION:April 16th at Aegis Comics of Alaska\, the Redington Educators Rising after school chapter will be holding an artists day to fund raise to go to Washington DC to compete in nationals!\n\nMultiple artists will be selling art from paintings\, prints\, and hand made ear rings!\n\nIt will be held at Aegis Comics of Alaska in Wasilla from starting at 11am. Bring cash to help support us!\n\n(Extra points if you show up in comic/marvel/DC cosplay \, it'd be awesome)
X-ALT-DESC;FMTTYPE=text/html:<span style="color: rgb(5\, 5\, 5)\; font-family: &quot\;Segoe UI Historic&quot\;\, &quot\;Segoe UI&quot\;\, Helvetica\, Arial\, sans-serif\; font-size: 15px\;">April 16th at Aegis Comics of Alaska\, the Redington Educators Rising after school chapter will be holding an artists day to fund raise to go to Washington DC to compete in nationals!</span><br style="color: rgb(5\, 5\, 5)\; font-family: &quot\;Segoe UI Historic&quot\;\, &quot\;Segoe UI&quot\;\, Helvetica\, Arial\, sans-serif\; font-size: 15px\;" />\n<span style="color: rgb(5\, 5\, 5)\; font-family: &quot\;Segoe UI Historic&quot\;\, &quot\;Segoe UI&quot\;\, Helvetica\, Arial\, sans-serif\; font-size: 15px\;">Multiple artists will be selling art from paintings\, prints\, and hand made ear rings!</span><br style="color: rgb(5\, 5\, 5)\; font-family: &quot\;Segoe UI Historic&quot\;\, &quot\;Segoe UI&quot\;\, Helvetica\, Arial\, sans-serif\; font-size: 15px\;" />\n<span style="color: rgb(5\, 5\, 5)\; font-family: &quot\;Segoe UI Historic&quot\;\, &quot\;Segoe UI&quot\;\, Helvetica\, Arial\, sans-serif\; font-size: 15px\;">It will be held at Aegis Comics of Alaska in Wasilla from starting at 11am. Bring cash to help support us!</span><br style="color: rgb(5\, 5\, 5)\; font-family: &quot\;Segoe UI Historic&quot\;\, &quot\;Segoe UI&quot\;\, Helvetica\, Arial\, sans-serif\; font-size: 15px\;" />\n<span style="color: rgb(5\, 5\, 5)\; font-family: &quot\;Segoe UI Historic&quot\;\, &quot\;Segoe UI&quot\;\, Helvetica\, Arial\, sans-serif\; font-size: 15px\;">(Extra points if you show up in comic/marvel/DC cosplay \, it&rsquo\;d be awesome)</span><span style="color: rgb(5\, 5\, 5)\; font-family: &quot\;Segoe UI Historic&quot\;\, &quot\;Segoe UI&quot\;\, Helvetica\, Arial\, sans-serif\; font-size: 15px\;">&nbsp\;</span>
LOCATION:Aegis Comics of Alaska 500 E. Swanson Ave. Wasilla\, AK 99654
UID:e.3185.16404
SEQUENCE:3
DTSTAMP:20260419T122916Z
URL:http://business.wasillachamber.org/events/details/comic-art-sale-fundraiser-at-aegis-comics-of-alaska-16404
END:VEVENT

END:VCALENDAR
