BEGIN:VCALENDAR
VERSION:2.0
PRODID:-//ChamberMaster//Event Calendar 2.0//EN
METHOD:PUBLISH
X-PUBLISHED-TTL:P3D
REFRESH-INTERVAL:P3D
CALSCALE:GREGORIAN
BEGIN:VEVENT
DTSTART:20231118T190000Z
DTEND:20231118T203000Z
X-MICROSOFT-CDO-ALLDAYEVENT:FALSE
SUMMARY:Coffee Chat with Legislators
DESCRIPTION:Come have a coffee and chat with your legislators\, House Speaker Representative\, Cathy Tilton and Senator\, Shelley Hughes. This is your time to share input and concerns about issues that are important to you!
X-ALT-DESC;FMTTYPE=text/html:Come have a coffee and chat with your legislators\, House Speaker Representative\, Cathy Tilton and Senator\, Shelley Hughes. This is your time to share input and concerns about issues that are important to you!
LOCATION:Strudel Baker's deli & bakery. 6177 E Mountain Heather Way\, Palmer
UID:e.3185.21322
SEQUENCE:3
DTSTAMP:20260422T202323Z
URL:http://business.wasillachamber.org/events/details/coffee-chat-with-legislators-21322
END:VEVENT

END:VCALENDAR
