BEGIN:VCALENDAR
VERSION:2.0
PRODID:-//ChamberMaster//Event Calendar 2.0//EN
METHOD:PUBLISH
X-PUBLISHED-TTL:P3D
REFRESH-INTERVAL:P3D
CALSCALE:GREGORIAN
BEGIN:VEVENT
DTSTART:20201010T010000Z
DTEND:20201010T040000Z
X-MICROSOFT-CDO-ALLDAYEVENT:FALSE
SUMMARY:Coatz for Kidz Fundraiser
DESCRIPTION:Trich Productions presents Coatz for Kidz \n\nHelp us take care of our community\n\nALL kids (k-8th) must be present\n\n\n\nJoin us and other local companies as we make a difference in the children of Alaska.
X-ALT-DESC;FMTTYPE=text/html:Trich Productions presents Coatz for Kidz&nbsp\;<br />\nHelp us take care of our community<br />\nALL kids (k-8th) must be present<br />\n<br />\nJoin us and other local companies as we make a difference in the children of Alaska.
LOCATION:Extreme Fun Center 3501 E. Old Matanuska Rd. Wasilla\, AK 99654
UID:e.3185.9628
SEQUENCE:3
DTSTAMP:20260426T013057Z
URL:http://business.wasillachamber.org/events/details/coatz-for-kidz-fundraiser-9628
END:VEVENT

END:VCALENDAR
