BEGIN:VCALENDAR
VERSION:2.0
PRODID:-//ChamberMaster//Event Calendar 2.0//EN
METHOD:PUBLISH
X-PUBLISHED-TTL:P3D
REFRESH-INTERVAL:P3D
CALSCALE:GREGORIAN
BEGIN:VEVENT
DTSTART:20201217T023000Z
DTEND:20201217T033000Z
X-MICROSOFT-CDO-ALLDAYEVENT:FALSE
SUMMARY:Chanukah Celebration
DESCRIPTION:The Mat-Su Jewish Center Chabad invites you to our annual Chanukah Celebration\n\nWednesday\, December 16th\, 5:30pm\n\nMenorah lighting ceremony on the Palmer pavilion followed by a fireworks show.\n\nPick up your box of Chanukah treats at any of the three table stations.\n\nPlease social distance and wear a mask.
X-ALT-DESC;FMTTYPE=text/html:The Mat-Su Jewish Center Chabad invites you to our annual Chanukah Celebration<br />\nWednesday\, December 16th\, 5:30pm<br />\nMenorah lighting ceremony on the Palmer pavilion followed by a fireworks show.<br />\nPick up your box of Chanukah treats at any of the three table stations.<br />\nPlease social distance and wear a mask.
LOCATION:Downtown Palmer Pavilion
UID:e.3185.9903
SEQUENCE:3
DTSTAMP:20260425T020600Z
URL:http://business.wasillachamber.org/events/details/chanukah-celebration-9903
END:VEVENT

END:VCALENDAR
