BEGIN:VCALENDAR
VERSION:2.0
PRODID:-//ChamberMaster//Event Calendar 2.0//EN
METHOD:PUBLISH
X-PUBLISHED-TTL:P3D
REFRESH-INTERVAL:P3D
CALSCALE:GREGORIAN
BEGIN:VEVENT
DTSTART:20201217T210000Z
DTEND:20201217T220000Z
X-MICROSOFT-CDO-ALLDAYEVENT:FALSE
SUMMARY:Chamber -VIRTUAL- Holiday Gathering
DESCRIPTION:Join us for a VIRTUAL holiday gathering!\n\nPre-registration required.\n\nRegister Here
X-ALT-DESC;FMTTYPE=text/html:Join us for a VIRTUAL holiday gathering!<br />\nPre-registration required.<br />\n<a href="https://us02web.zoom.us/meeting/register/tZMuce-rrDktHd3cFk4hriEhxDQ4Euo46x8M">Register Here</a>
LOCATION:ZOOM LINK
UID:e.3185.8385
SEQUENCE:3
DTSTAMP:20260424T100603Z
URL:http://business.wasillachamber.org/events/details/chamber-virtual-holiday-gathering-8385
END:VEVENT

END:VCALENDAR
