BEGIN:VCALENDAR
VERSION:2.0
PRODID:-//ChamberMaster//Event Calendar 2.0//EN
METHOD:PUBLISH
X-PUBLISHED-TTL:P3D
REFRESH-INTERVAL:P3D
CALSCALE:GREGORIAN
BEGIN:VEVENT
DTSTART:20191211T200000Z
DTEND:20191211T210000Z
X-MICROSOFT-CDO-ALLDAYEVENT:FALSE
SUMMARY:Budget Committee Meeting
DESCRIPTION:The monthly meeting of the Greater Wasilla Chamber of Commerce Budget and Finance Committee
X-ALT-DESC;FMTTYPE=text/html:The monthly meeting of the Greater Wasilla Chamber of Commerce Budget and Finance Committee
LOCATION:GWCC 415 E. Railroad Ave.\, Wasilla
UID:e.3185.4026
SEQUENCE:3
DTSTAMP:20260420T095557Z
URL:http://business.wasillachamber.org/events/details/budget-committee-meeting-12-11-2019-4026
END:VEVENT

END:VCALENDAR
