BEGIN:VCALENDAR
VERSION:2.0
PRODID:-//ChamberMaster//Event Calendar 2.0//EN
METHOD:PUBLISH
X-PUBLISHED-TTL:P3D
REFRESH-INTERVAL:P3D
CALSCALE:GREGORIAN
BEGIN:VEVENT
DTSTART:20201221T020000Z
DTEND:20201221T023000Z
X-MICROSOFT-CDO-ALLDAYEVENT:FALSE
SUMMARY:Bring Back the Light
DESCRIPTION:A moment of celebration\, solidarity and reflection.\n\nJoin fellow Alaskans by shining a light at 5pm on Sunday December 20th\, 2020\n\n\n\nAs we approach the shortest day of 2020\, we encourage Alaskans to pause and celebrate the return of the light. It has been a difficult year for everyone in different ways\, but Alaskans have shown considerable strength to adapt and take care of themselves and each other.\n\nDuring Bring Back the Light\, Alaskans will come together to support one another and our communities\, take pride in our resiliency and look forward to brighter days ahead.\n\n\n\nIn advance of the event\, create lights or lanterns in your homes and neighborhoods. At 5pm on Sunday December 20th step outside with others in your household and light a candle or turn on lights\, flashlights\, headlamps or a lantern.\n\nPrior to the event\, feel free to share photo or videos of your lanterns\, ice candles or lights. During the event please take photos or videos and share them on social media. Use the hashtag #WithYouAlaska
X-ALT-DESC;FMTTYPE=text/html:A moment of celebration\, solidarity and reflection.<br />\nJoin fellow Alaskans by shining a light at 5pm on Sunday December 20th\, 2020<br />\n<br />\nAs we approach the shortest day of 2020\, we encourage Alaskans to pause and celebrate the return of the light. It has been a difficult year for everyone in different ways\, but Alaskans have shown considerable strength to adapt and take care of themselves and each other.<br />\nDuring Bring Back the Light\, Alaskans will come together to support one another and our communities\, take pride in our resiliency and look forward to brighter days ahead.<br />\n<br />\nIn advance of the event\, create lights or lanterns in your homes and neighborhoods. At 5pm on Sunday December 20th step outside with others in your household and light a candle or turn on lights\, flashlights\, headlamps or a lantern.<br />\nPrior to the event\, feel free to share photo or videos of your lanterns\, ice candles or lights. During the event please take photos or videos and share them on social media. Use the hashtag #WithYouAlaska
LOCATION:Homes\, communities and neighborhoods
UID:e.3185.9907
SEQUENCE:3
DTSTAMP:20260425T145925Z
URL:http://business.wasillachamber.org/events/details/bring-back-the-light-9907
END:VEVENT

END:VCALENDAR
