BEGIN:VCALENDAR
VERSION:2.0
PRODID:-//ChamberMaster//Event Calendar 2.0//EN
METHOD:PUBLISH
X-PUBLISHED-TTL:P3D
REFRESH-INTERVAL:P3D
CALSCALE:GREGORIAN
BEGIN:VEVENT
DTSTART:20231117T023000Z
DTEND:20231117T043000Z
X-MICROSOFT-CDO-ALLDAYEVENT:FALSE
SUMMARY:Brewery Mixer Night
DESCRIPTION:Let's Grow Together to Beat Cancer!\n\n\n\nDuring the month of November\, grow a glorious goatee\, a superior 'stache\, or a simply beardtastic facial hair display and raise funds to help Alaskans facing cancer with free critical programs and services!\n\n\n\n100% Percent of funds raised stay in Alaska!
X-ALT-DESC;FMTTYPE=text/html:Let&#39\;s Grow Together to Beat Cancer!<br />\n<br />\nDuring the month of November\, grow a glorious goatee\, a superior &#39\;stache\, or a simply beardtastic facial hair display and raise funds to help Alaskans facing cancer with free critical programs and services!<br />\n<br />\n100% Percent of funds raised stay in Alaska!<br />\n<br />\n&nbsp\;
LOCATION:Odd Man Rush in Eagle River 10930 Mausel St\, Eagle River\, AK 99577
UID:e.3185.21435
SEQUENCE:3
DTSTAMP:20260422T003224Z
URL:http://business.wasillachamber.org/events/details/brewery-mixer-night-21435
END:VEVENT

END:VCALENDAR
