BEGIN:VCALENDAR
VERSION:2.0
PRODID:-//ChamberMaster//Event Calendar 2.0//EN
METHOD:PUBLISH
X-PUBLISHED-TTL:P3D
REFRESH-INTERVAL:P3D
CALSCALE:GREGORIAN
BEGIN:VEVENT
DTSTART:20210727T030000Z
DTEND:20210727T040000Z
X-MICROSOFT-CDO-ALLDAYEVENT:FALSE
SUMMARY:Boating Safety Pool Session
DESCRIPTION:Alaska Office of Boating Safety\n\nKids Don't Float\n\nBoating Safety Pool Session at Wasilla Pool.\n\nLearn and practice some important boating safety skills. You can bring the whole family! This event is open to all ages and abilities (children must be accompanied by an adult).There is no cost\, but you must register by emailing iris.nawiesniak@alaska.gov \n\n\n\nFREE \n\n30 spots available
X-ALT-DESC;FMTTYPE=text/html:Alaska Office of Boating Safety<br />\nKids Don&#39\;t Float<br />\nBoating Safety Pool Session at Wasilla Pool.<br />\nLearn and practice some important boating safety skills. You can bring the whole family! This event is open to all ages and abilities (children must be accompanied by an adult).There is no cost\, but you must register by emailing iris.nawiesniak@alaska.gov&nbsp\;<br />\n<br />\nFREE&nbsp\;<br />\n30 spots available
LOCATION:Wasilla Pool 701 E. Bogard Rd. Wasilla\, AK 99654
UID:e.3185.14163
SEQUENCE:3
DTSTAMP:20260425T181521Z
URL:http://business.wasillachamber.org/events/details/boating-safety-pool-session-14163
END:VEVENT

END:VCALENDAR
