BEGIN:VCALENDAR
VERSION:2.0
PRODID:-//ChamberMaster//Event Calendar 2.0//EN
METHOD:PUBLISH
X-PUBLISHED-TTL:P3D
REFRESH-INTERVAL:P3D
CALSCALE:GREGORIAN
BEGIN:VEVENT
DTSTART:20220614T190000Z
DTEND:20220615T020000Z
X-MICROSOFT-CDO-ALLDAYEVENT:FALSE
SUMMARY:Blood Drive at Turn-a-Leaf Thrift Store
DESCRIPTION:VALLEY CHARITIES | BLOOD DRIVE WITH ALASKA BLOOD BANK\n\n\n\nWe are happy to announce that Valley Charities is working on a partnership with the Blood Bank of Alaska during the upcoming World Blood Donor Day\; Tuesday\, June 14\, 2022 from 11 AM to 5:40 PM.\n\n\n\nIn order for this to happen\, we need to have at least 20 people show an interest by signing the blood donor interest form\, so it's cost effective to bring the Blood Bank of Alaska staff out to our location.\n\n\n\nPlease\, consider donating blood by adding your name to the interest form at the cashier's counter\, or email Kimberly directly to have you added by emailing her at Kimberly.Kellar@valleycharities.org. The forms are confidential and are not shared with anyone.\n\n\n\nOur deadline to collect at least 20 names is May 9th.\n\nThank you | Your participation in donating blood will save a life!
X-ALT-DESC;FMTTYPE=text/html:<span style="color: rgb(5\, 5\, 5)\; font-family: &quot\;Segoe UI Historic&quot\;\, &quot\;Segoe UI&quot\;\, Helvetica\, Arial\, sans-serif\; font-size: 15px\;">VALLEY CHARITIES | BLOOD DRIVE WITH ALASKA BLOOD BANK</span><br style="color: rgb(5\, 5\, 5)\; font-family: &quot\;Segoe UI Historic&quot\;\, &quot\;Segoe UI&quot\;\, Helvetica\, Arial\, sans-serif\; font-size: 15px\;" />\n<br style="color: rgb(5\, 5\, 5)\; font-family: &quot\;Segoe UI Historic&quot\;\, &quot\;Segoe UI&quot\;\, Helvetica\, Arial\, sans-serif\; font-size: 15px\;" />\n<span style="color: rgb(5\, 5\, 5)\; font-family: &quot\;Segoe UI Historic&quot\;\, &quot\;Segoe UI&quot\;\, Helvetica\, Arial\, sans-serif\; font-size: 15px\;">We are happy to announce that Valley Charities is working on a partnership with the Blood Bank of Alaska during the upcoming World Blood Donor Day\; Tuesday\, June 14\, 2022 from 11 AM to 5:40 PM.</span><br style="color: rgb(5\, 5\, 5)\; font-family: &quot\;Segoe UI Historic&quot\;\, &quot\;Segoe UI&quot\;\, Helvetica\, Arial\, sans-serif\; font-size: 15px\;" />\n<br style="color: rgb(5\, 5\, 5)\; font-family: &quot\;Segoe UI Historic&quot\;\, &quot\;Segoe UI&quot\;\, Helvetica\, Arial\, sans-serif\; font-size: 15px\;" />\n<span style="color: rgb(5\, 5\, 5)\; font-family: &quot\;Segoe UI Historic&quot\;\, &quot\;Segoe UI&quot\;\, Helvetica\, Arial\, sans-serif\; font-size: 15px\;">In order for this to happen\, we need to have at least 20 people show an interest by signing the blood donor interest form\, so it&rsquo\;s cost effective to bring the Blood Bank of Alaska staff out to our location.</span><br style="color: rgb(5\, 5\, 5)\; font-family: &quot\;Segoe UI Historic&quot\;\, &quot\;Segoe UI&quot\;\, Helvetica\, Arial\, sans-serif\; font-size: 15px\;" />\n<br style="color: rgb(5\, 5\, 5)\; font-family: &quot\;Segoe UI Historic&quot\;\, &quot\;Segoe UI&quot\;\, Helvetica\, Arial\, sans-serif\; font-size: 15px\;" />\n<span style="color: rgb(5\, 5\, 5)\; font-family: &quot\;Segoe UI Historic&quot\;\, &quot\;Segoe UI&quot\;\, Helvetica\, Arial\, sans-serif\; font-size: 15px\;">Please\, consider donating blood by adding your name to the interest form at the cashier&rsquo\;s counter\, or email Kimberly directly to have you added by emailing her at Kimberly.Kellar@valleycharities.org. The forms are confidential and are not shared with anyone.</span><br style="color: rgb(5\, 5\, 5)\; font-family: &quot\;Segoe UI Historic&quot\;\, &quot\;Segoe UI&quot\;\, Helvetica\, Arial\, sans-serif\; font-size: 15px\;" />\n<br style="color: rgb(5\, 5\, 5)\; font-family: &quot\;Segoe UI Historic&quot\;\, &quot\;Segoe UI&quot\;\, Helvetica\, Arial\, sans-serif\; font-size: 15px\;" />\n<span style="color: rgb(5\, 5\, 5)\; font-family: &quot\;Segoe UI Historic&quot\;\, &quot\;Segoe UI&quot\;\, Helvetica\, Arial\, sans-serif\; font-size: 15px\;">Our deadline to collect at least 20 names is May 9th.</span><br style="color: rgb(5\, 5\, 5)\; font-family: &quot\;Segoe UI Historic&quot\;\, &quot\;Segoe UI&quot\;\, Helvetica\, Arial\, sans-serif\; font-size: 15px\;" />\n<span style="color: rgb(5\, 5\, 5)\; font-family: &quot\;Segoe UI Historic&quot\;\, &quot\;Segoe UI&quot\;\, Helvetica\, Arial\, sans-serif\; font-size: 15px\;">Thank you | Your participation in donating blood will save a life!</span>
LOCATION:Turn-a-Leaf Thrift Store 400 N Yenlo St. Wasilla\, AK 99654
UID:e.3185.16413
SEQUENCE:3
DTSTAMP:20260423T021003Z
URL:http://business.wasillachamber.org/events/details/blood-drive-at-turn-a-leaf-thrift-store-16413
END:VEVENT

END:VCALENDAR
