BEGIN:VCALENDAR
VERSION:2.0
PRODID:-//ChamberMaster//Event Calendar 2.0//EN
METHOD:PUBLISH
X-PUBLISHED-TTL:P3D
REFRESH-INTERVAL:P3D
CALSCALE:GREGORIAN
BEGIN:VEVENT
DTSTART:20201220T210000Z
DTEND:20201221T070000Z
X-MICROSOFT-CDO-ALLDAYEVENT:FALSE
SUMMARY:Big Lake Solstice
DESCRIPTION:Big Lake Solstice -  A Fun Family Event\n\nLighted ice skating on Big Lake with access to Boathouse to warm up and bathrooms. There will be free hot chocolate\, cider\, coffee and popcorn.\n\nThere will be door prizes given away at the end of each day.
X-ALT-DESC;FMTTYPE=text/html:Big Lake Solstice -&nbsp\; A Fun Family Event<br />\nLighted ice skating on Big Lake with access to Boathouse to warm up and bathrooms. There will be free hot chocolate\, cider\, coffee and popcorn.<br />\nThere will be door prizes given away at the end of each day.<br />\n&nbsp\;
LOCATION:Big Lake 5322 S. Big Lake Rd. 99623
UID:e.3185.9905
SEQUENCE:3
DTSTAMP:20260424T135121Z
URL:http://business.wasillachamber.org/events/details/big-lake-solstice-9905
END:VEVENT

END:VCALENDAR
