BEGIN:VCALENDAR
VERSION:2.0
PRODID:-//ChamberMaster//Event Calendar 2.0//EN
METHOD:PUBLISH
X-PUBLISHED-TTL:P3D
REFRESH-INTERVAL:P3D
CALSCALE:GREGORIAN
BEGIN:VEVENT
DTSTART:20220625T010000Z
DTEND:20220627T050000Z
X-MICROSOFT-CDO-ALLDAYEVENT:FALSE
SUMMARY:Berkshire Hathaway HomeServices Alaska Realty Pre-Licensing Course
DESCRIPTION:How to Become a Realtor?\n\nThe Pre-Licensing Class is Your First Step!\n\n\n\nSign up for the Berkshire Hathaway HomeServices Alaska Realty Pre-Licensing Course that takes place for the first time ever in our new WASILLA OFFICE on June 24-26 with top producer Doug Goodwin for only $259 which includes your books and course materials!\n\n\n\nBe your own boss and work your own hours. Begin your real estate sales career and learn from one of the top 10 Real Estate Brokerages in Alaska. Start studying today!\n\n\n\nClass Schedule:\n\nFriday\, June 24: 5-9 PM\n\nSaturday\, June 25: 9-5 PM\n\nSunday\, June 26: 9-5 PM\n\n\n\nCall Claire today to learn more about the process or to sign up\, 907-744-7859
X-ALT-DESC;FMTTYPE=text/html:<div class="kvgmc6g5 cxmmr5t8 oygrvhab hcukyx3x c1et5uql ii04i59q" style="overflow-wrap: break-word\; margin: 0px\; white-space: pre-wrap\; font-family: &quot\;Segoe UI Historic&quot\;\, &quot\;Segoe UI&quot\;\, Helvetica\, Arial\, sans-serif\; color: rgb(5\, 5\, 5)\; font-size: 15px\;">\n<div dir="auto" style="font-family: inherit\;">How to Become a Realtor?</div>\n\n<div dir="auto" style="font-family: inherit\;">The Pre-Licensing Class is Your First Step!</div>\n</div>\n\n<div class="cxmmr5t8 oygrvhab hcukyx3x c1et5uql o9v6fnle ii04i59q" style="overflow-wrap: break-word\; margin: 0.5em 0px 0px\; white-space: pre-wrap\; font-family: &quot\;Segoe UI Historic&quot\;\, &quot\;Segoe UI&quot\;\, Helvetica\, Arial\, sans-serif\; color: rgb(5\, 5\, 5)\; font-size: 15px\;">\n<div dir="auto" style="font-family: inherit\;">Sign up for the Berkshire Hathaway HomeServices Alaska Realty Pre-Licensing Course that takes place for the first time ever in our new WASILLA OFFICE on June 24-26 with top producer Doug Goodwin for only $259 which includes your books and course materials!</div>\n</div>\n\n<div class="cxmmr5t8 oygrvhab hcukyx3x c1et5uql o9v6fnle ii04i59q" style="overflow-wrap: break-word\; margin: 0.5em 0px 0px\; white-space: pre-wrap\; font-family: &quot\;Segoe UI Historic&quot\;\, &quot\;Segoe UI&quot\;\, Helvetica\, Arial\, sans-serif\; color: rgb(5\, 5\, 5)\; font-size: 15px\;">\n<div dir="auto" style="font-family: inherit\;">Be your own boss and work your own hours. Begin your real estate sales career and learn from one of the top 10 Real Estate Brokerages in Alaska. Start studying today!</div>\n</div>\n\n<div class="cxmmr5t8 oygrvhab hcukyx3x c1et5uql o9v6fnle ii04i59q" style="overflow-wrap: break-word\; margin: 0.5em 0px 0px\; white-space: pre-wrap\; font-family: &quot\;Segoe UI Historic&quot\;\, &quot\;Segoe UI&quot\;\, Helvetica\, Arial\, sans-serif\; color: rgb(5\, 5\, 5)\; font-size: 15px\;">\n<div dir="auto" style="font-family: inherit\;">Class Schedule:</div>\n\n<div dir="auto" style="font-family: inherit\;">Friday\, June 24: 5-9 PM</div>\n\n<div dir="auto" style="font-family: inherit\;">Saturday\, June 25: 9-5 PM</div>\n\n<div dir="auto" style="font-family: inherit\;">Sunday\, June 26: 9-5 PM</div>\n</div>\n\n<div class="cxmmr5t8 oygrvhab hcukyx3x c1et5uql o9v6fnle ii04i59q" style="overflow-wrap: break-word\; margin: 0.5em 0px 0px\; white-space: pre-wrap\; font-family: &quot\;Segoe UI Historic&quot\;\, &quot\;Segoe UI&quot\;\, Helvetica\, Arial\, sans-serif\; color: rgb(5\, 5\, 5)\; font-size: 15px\;">\n<div dir="auto" style="font-family: inherit\;">Call Claire today to learn more about the process or to sign up\, 907-744-7859</div>\n</div>\n
LOCATION:Berkshire Hathaway HomeServices Alaska Realty Wasilla Office 1771 E Palmer-Wasilla Highway Suite 1A Wasilla\, AK 99654
UID:e.3185.16665
SEQUENCE:3
DTSTAMP:20260423T021003Z
URL:http://business.wasillachamber.org/events/details/berkshire-hathaway-homeservices-alaska-realty-pre-licensing-course-16665
END:VEVENT

END:VCALENDAR
