BEGIN:VCALENDAR
VERSION:2.0
PRODID:-//ChamberMaster//Event Calendar 2.0//EN
METHOD:PUBLISH
X-PUBLISHED-TTL:P3D
REFRESH-INTERVAL:P3D
CALSCALE:GREGORIAN
BEGIN:VEVENT
DTSTART:20230927T020000Z
DTEND:20230927T030000Z
X-MICROSOFT-CDO-ALLDAYEVENT:FALSE
SUMMARY:Beginner ASL Class at Black Birch Books
DESCRIPTION:Join Black Birch Books for Beginner ASL Class every Tuesday from September 5th - October 24th\n\n$10 per person per class\n\nHandicap accessible space\n\nBeginner level for all ages
X-ALT-DESC;FMTTYPE=text/html:Join Black Birch Books for Beginner ASL Class every Tuesday from September 5th - October 24th<br />\n$10 per person per class<br />\nHandicap accessible space<br />\nBeginner level for all ages
LOCATION:Black Birch Books 2901 E. Bogard Rd. #104 Wasilla\, AK 99654
UID:e.3185.21111
SEQUENCE:3
DTSTAMP:20260421T154416Z
URL:http://business.wasillachamber.org/events/details/beginner-asl-class-at-black-birch-books-09-26-2023-21111
END:VEVENT

END:VCALENDAR
